BEGIN:VCALENDAR
VERSION:2.0
PRODID:-//Kinderzentrum St. Nikolaus Herrsching - ECPv6.5.1.6//NONSGML v1.0//EN
CALSCALE:GREGORIAN
METHOD:PUBLISH
X-WR-CALNAME:Kinderzentrum St. Nikolaus Herrsching
X-ORIGINAL-URL:http://kinderzentrum-herrsching.de
X-WR-CALDESC:Veranstaltungen für Kinderzentrum St. Nikolaus Herrsching
REFRESH-INTERVAL;VALUE=DURATION:PT1H
X-Robots-Tag:noindex
X-PUBLISHED-TTL:PT1H
BEGIN:VTIMEZONE
TZID:Europe/Berlin
BEGIN:DAYLIGHT
TZOFFSETFROM:+0100
TZOFFSETTO:+0200
TZNAME:CEST
DTSTART:20250330T010000
END:DAYLIGHT
BEGIN:STANDARD
TZOFFSETFROM:+0200
TZOFFSETTO:+0100
TZNAME:CET
DTSTART:20251026T010000
END:STANDARD
END:VTIMEZONE
BEGIN:VEVENT
DTSTART;VALUE=DATE:20250502
DTEND;VALUE=DATE:20250607
DTSTAMP:20260421T143709
CREATED:20240906T112955Z
LAST-MODIFIED:20240906T112955Z
UID:2223-1746169200-1749193199@kinderzentrum-herrsching.de
SUMMARY:Besuch auf dem Bauernhof für die 4 - 5 Jahre alten Kinder
DESCRIPTION:Infos folgen von den jeweili8gen Gruppen \n(Information comes from the groups)
URL:http://kinderzentrum-herrsching.de/termine/besuch-auf-dem-bauernhof-fuer-die-4-5-jahre-alten-kinder/
LOCATION:Kindergarten St. Nikolaus\, Deutschland
CATEGORIES:Kindergarten
END:VEVENT
BEGIN:VEVENT
DTSTART;VALUE=DATE:20250505
DTEND;VALUE=DATE:20250508
DTSTAMP:20260421T143709
CREATED:20180115T130834Z
LAST-MODIFIED:20240910T074355Z
UID:346-1746428400-1746601199@kinderzentrum-herrsching.de
SUMMARY:Schultütenbasteln Vorschulkinder mit Eltern
DESCRIPTION:Schultütenbasteln findet jeweils von 14 Uhr &#8211; 16:30 Uhr statt
URL:http://kinderzentrum-herrsching.de/termine/schultuetenbasteln-vorschulkinder/
LOCATION:Kindergarten St. Nikolaus\, Deutschland
CATEGORIES:Vorschulgruppe
END:VEVENT
BEGIN:VEVENT
DTSTART;TZID=Europe/Berlin:20250509T160000
DTEND;TZID=Europe/Berlin:20250509T190000
DTSTAMP:20260421T143709
CREATED:20240119T134208Z
LAST-MODIFIED:20240906T111907Z
UID:2011-1746806400-1746817200@kinderzentrum-herrsching.de
SUMMARY:Maifest des Kinderzentrums
DESCRIPTION:Achtung: Betreuung der Kinder endet: \nKrippenkinder 12:00 Uhr &#8211; mit Mittagessen \nKindergartenkinder 12:30 Uhr max. &#8211; mit Mittagessen \nHortkinder &#8211; keine Betreuung
URL:http://kinderzentrum-herrsching.de/termine/sommerfest-des-kinderzentrums/
LOCATION:Kath. Kinderzentrum\, Mitterweg 20\, Herrsching\, 82211\, Deutschland
CATEGORIES:Hort,Kindergarten,Kinderzentrum,Krippe,Vorschulgruppe
END:VEVENT
BEGIN:VEVENT
DTSTART;TZID=Europe/Berlin:20250512T140000
DTEND;TZID=Europe/Berlin:20250512T140000
DTSTAMP:20260421T143709
CREATED:20240906T112117Z
LAST-MODIFIED:20240906T112144Z
UID:2218-1747058400-1747058400@kinderzentrum-herrsching.de
SUMMARY:Teamfortbildung Nachmittags - "Kinder wertvoll begleiten"
DESCRIPTION:Die Einrichtung ist ab 14 Uhr geschlossen\, Betreuung der Kinder endet um 14 Uhr \n(The facility is closed from 2 p.m.\, care for children ends at 2 p.m)
URL:http://kinderzentrum-herrsching.de/termine/teamfortbildung-nachmittags-kinder-wertvoll-begleiten-2/
LOCATION:Kath. Kinderzentrum\, Mitterweg 20\, Herrsching\, 82211\, Deutschland
CATEGORIES:Hort,Kindergarten,Kinderzentrum,Krippe,Vorschulgruppe
END:VEVENT
BEGIN:VEVENT
DTSTART;TZID=Europe/Berlin:20250513T150000
DTEND;TZID=Europe/Berlin:20250513T170000
DTSTAMP:20260421T143709
CREATED:20241112T092041Z
LAST-MODIFIED:20241112T092041Z
UID:2262-1747148400-1747155600@kinderzentrum-herrsching.de
SUMMARY:Teamsupervision Bereich Kindergarten - Betreuungsende 15:15 Uhr
DESCRIPTION:Holen Sie bitte Ihr Kind bis spätestens 15:15 Uhr vom Kindergarten ab&#8230;.Danke \nPlease pick up your child from kindergarten by 3:15 p.m. at the latest...Thank you
URL:http://kinderzentrum-herrsching.de/termine/teamsupervision-bereich-kindergarten-betreuungsende-1515-uhr/
CATEGORIES:Kindergarten,Vorschulgruppe
END:VEVENT
BEGIN:VEVENT
DTSTART;TZID=Europe/Berlin:20250514T150000
DTEND;TZID=Europe/Berlin:20250514T170000
DTSTAMP:20260421T143709
CREATED:20230917T123711Z
LAST-MODIFIED:20240906T112425Z
UID:1926-1747234800-1747242000@kinderzentrum-herrsching.de
SUMMARY:Mutter- und Vatertagspicknick Raupengruppe
DESCRIPTION:Einladung folgt
URL:http://kinderzentrum-herrsching.de/termine/mutter-und-vatertagspicknick-raupengruppe/
LOCATION:Krippe St. Nikolaus\, Deutschland
CATEGORIES:Krippe
END:VEVENT
BEGIN:VEVENT
DTSTART;TZID=Europe/Berlin:20250514T150000
DTEND;TZID=Europe/Berlin:20250514T170000
DTSTAMP:20260421T143709
CREATED:20230917T124112Z
LAST-MODIFIED:20240906T112344Z
UID:1928-1747234800-1747242000@kinderzentrum-herrsching.de
SUMMARY:Mutter- und Vatertagspicknick Käfergruppe
DESCRIPTION:Einladung folgt
URL:http://kinderzentrum-herrsching.de/termine/mutter-und-vatertagspicknick-kaefergruppe/
LOCATION:Krippe St. Nikolaus\, Deutschland
CATEGORIES:Krippe
END:VEVENT
BEGIN:VEVENT
DTSTART;TZID=Europe/Berlin:20250519T150000
DTEND;TZID=Europe/Berlin:20250519T170000
DTSTAMP:20260421T143709
CREATED:20230917T123044Z
LAST-MODIFIED:20240906T112713Z
UID:1924-1747666800-1747674000@kinderzentrum-herrsching.de
SUMMARY:Mutter- & Vatertagsfest
DESCRIPTION:Infos kommen von den Gruppen \n(Information comes from the groups)
URL:http://kinderzentrum-herrsching.de/termine/mutter-vatertagsfest/
LOCATION:Kindergarten St. Nikolaus\, Deutschland
CATEGORIES:Kindergarten,Vorschulgruppe
END:VEVENT
BEGIN:VEVENT
DTSTART;TZID=Europe/Berlin:20250521T150000
DTEND;TZID=Europe/Berlin:20250521T170000
DTSTAMP:20260421T143709
CREATED:20230917T124227Z
LAST-MODIFIED:20240906T112554Z
UID:1930-1747839600-1747846800@kinderzentrum-herrsching.de
SUMMARY:Mutter- und Vatertagspicknick Igelgruppe
DESCRIPTION:Einladung folgt
URL:http://kinderzentrum-herrsching.de/termine/mutter-und-vatertagspicknick-igelgruppe/
LOCATION:Krippe St. Nikolaus\, Deutschland
CATEGORIES:Krippe
END:VEVENT
BEGIN:VEVENT
DTSTART;TZID=Europe/Berlin:20250521T150000
DTEND;TZID=Europe/Berlin:20250521T170000
DTSTAMP:20260421T143709
CREATED:20230918T043356Z
LAST-MODIFIED:20240906T112512Z
UID:1932-1747839600-1747846800@kinderzentrum-herrsching.de
SUMMARY:Mutter- und Vatertagspicknick Eulengruppe
DESCRIPTION:Einladung folgt
URL:http://kinderzentrum-herrsching.de/termine/mutter-und-vatertagspicknick-raupengruppe-2/
LOCATION:Krippe St. Nikolaus\, Deutschland
CATEGORIES:Krippe
END:VEVENT
END:VCALENDAR