BEGIN:VCALENDAR
VERSION:2.0
PRODID:-//Kinderzentrum St. Nikolaus Herrsching - ECPv6.5.1.6//NONSGML v1.0//EN
CALSCALE:GREGORIAN
METHOD:PUBLISH
X-ORIGINAL-URL:http://kinderzentrum-herrsching.de
X-WR-CALDESC:Veranstaltungen fÃ¼r Kinderzentrum St. Nikolaus Herrsching
REFRESH-INTERVAL;VALUE=DURATION:PT1H
X-Robots-Tag:noindex
X-PUBLISHED-TTL:PT1H
BEGIN:VTIMEZONE
TZID:Europe/Berlin
BEGIN:DAYLIGHT
TZOFFSETFROM:+0100
TZOFFSETTO:+0200
TZNAME:CEST
DTSTART:20240331T010000
END:DAYLIGHT
BEGIN:STANDARD
TZOFFSETFROM:+0200
TZOFFSETTO:+0100
TZNAME:CET
DTSTART:20241027T010000
END:STANDARD
END:VTIMEZONE
BEGIN:VEVENT
DTSTART;VALUE=DATE:20241021
DTEND;VALUE=DATE:20241106
DTSTAMP:20260422T003101
CREATED:20240906T094819Z
LAST-MODIFIED:20240906T094819Z
UID:2139-1729494000-1730789999@kinderzentrum-herrsching.de
SUMMARY:Ausstellung "Alles Zucker oder was?" -
DESCRIPTION:Eingangsbereich Kinderzentrum: \nZiele der Ausstellung \n\nSichtbarmachen unerwartet hoher Zuckergehalte in Lebensmitteln\nEinordnen von Zuckeralternativen und SÃ¼ÃŸmachern gegenÃ¼ber Zucker\nKennenlernen von rechtlich geregelten und ungeregelten Werbeaussagen\nReflektieren\, wann die tolerierte tÃ¤gliche Zuckermenge erreicht ist\nErfahren\, wie Zucker und SÃ¼ÃŸungsmittel in der eigenen ErnÃ¤hrung reduziert werden kÃ¶nnen
URL:http://kinderzentrum-herrsching.de/termine/ausstellung-alles-zucker-oder-was/
LOCATION:Kath. Kinderzentrum\, Mitterweg 20\, Herrsching\, 82211\, Deutschland
CATEGORIES:Hort,Kindergarten,Kinderzentrum,Krippe,Vorschulgruppe
END:VEVENT
BEGIN:VEVENT
DTSTART;TZID=Europe/Berlin:20241106T150000
DTEND;TZID=Europe/Berlin:20241106T160000
DTSTAMP:20260422T003101
CREATED:20240906T100244Z
LAST-MODIFIED:20240906T100244Z
UID:2151-1730905200-1730908800@kinderzentrum-herrsching.de
SUMMARY:PrÃ¤ventionskurs - Gewalt 2 Hortgruppen
DESCRIPTION:Infos hierzu bekommen Sie im Hortbereich \n(You can find information about this in the after-school care area)
URL:http://kinderzentrum-herrsching.de/termine/praeventionskurs-gewalt-2-hortgruppen-5/
LOCATION:Hort St. Nikolaus\, 08152 3355\, Deutschland
CATEGORIES:Hort
END:VEVENT
BEGIN:VEVENT
DTSTART;TZID=Europe/Berlin:20241107T090000
DTEND;TZID=Europe/Berlin:20241107T100000
DTSTAMP:20260422T003101
CREATED:20240906T100425Z
LAST-MODIFIED:20240906T100425Z
UID:2153-1730970000-1730973600@kinderzentrum-herrsching.de
SUMMARY:PrÃ¤ventionskurs Gewalt - 2 Gruppen Vorschulkinder
DESCRIPTION:Infos hierzu bekommen Sie bei den FachkrÃ¤ften der Vorschulgruppe \n  \n(You can obtain information about this from the preschool group specialists)
URL:http://kinderzentrum-herrsching.de/termine/praeventionskurs-gewalt-2-gruppen-vorschulkinder-3/
LOCATION:Kindergarten St. Nikolaus\, Deutschland
CATEGORIES:Vorschulgruppe
END:VEVENT
BEGIN:VEVENT
DTSTART;VALUE=DATE:20241111
DTEND;VALUE=DATE:20241113
DTSTAMP:20260422T003101
CREATED:20231013T064724Z
LAST-MODIFIED:20240906T100833Z
UID:1961-1731308400-1731394799@kinderzentrum-herrsching.de
SUMMARY:St. Martinsfeier allgemein
DESCRIPTION:Liebe Eltern\, wir feiern St. Martin am frÃ¼hen Abend &#8230;. Einladung hierzu folgt mit allen Angaben \nBetreuungsende im Kinderzentrum 16 Uhr\, holen Sie Ihr Kind bitte rechtzeitig ab!!!
URL:http://kinderzentrum-herrsching.de/termine/st-martins-umzug-und-wortgottesdienst/
LOCATION:Kath. Kinderzentrum\, Mitterweg 20\, Herrsching\, 82211\, Deutschland
CATEGORIES:Hort,Kindergarten,Kinderzentrum,Krippe,Vorschulgruppe
END:VEVENT
BEGIN:VEVENT
DTSTART;TZID=Europe/Berlin:20241111T083000
DTEND;TZID=Europe/Berlin:20241111T110000
DTSTAMP:20260422T003101
CREATED:20220907T132033Z
LAST-MODIFIED:20240906T101000Z
UID:1629-1731313800-1731322800@kinderzentrum-herrsching.de
SUMMARY:St. Martinsfeier Krippe
DESCRIPTION:mit Buffet vormittags gruppenÃ¼bergreifend ohne Eltern &#8211; Infos kommen von den Gruppen
URL:http://kinderzentrum-herrsching.de/termine/st-martinsfeier/
LOCATION:Krippe St. Nikolaus\, Deutschland
CATEGORIES:Krippe
END:VEVENT
BEGIN:VEVENT
DTSTART;TZID=Europe/Berlin:20241111T083000
DTEND;TZID=Europe/Berlin:20241111T113000
DTSTAMP:20260422T003101
CREATED:20200930T124117Z
LAST-MODIFIED:20240906T101113Z
UID:1120-1731313800-1731324600@kinderzentrum-herrsching.de
SUMMARY:St. Martinsfeier Kindergarten
DESCRIPTION:Die Kindergartengruppen feiern St. Martin intern in den Gruppen ohne Eltern &#8211; nÃ¤here Infos folgen von den Gruppen&#8230;
URL:http://kinderzentrum-herrsching.de/termine/st-martinsfeiern/
LOCATION:Kindergarten St. Nikolaus\, Deutschland
CATEGORIES:Kindergarten,Vorschulgruppe
END:VEVENT
BEGIN:VEVENT
DTSTART;TZID=Europe/Berlin:20241113T150000
DTEND;TZID=Europe/Berlin:20241113T160000
DTSTAMP:20260422T003101
CREATED:20240906T101303Z
LAST-MODIFIED:20240906T101537Z
UID:2160-1731510000-1731513600@kinderzentrum-herrsching.de
SUMMARY:PrÃ¤ventionskurs - Gewalt 2 Hortgruppen
DESCRIPTION:Infos hierzu bekommen Sie im Hortbereich \n(You can find information about this in the after-school care area)
URL:http://kinderzentrum-herrsching.de/termine/praeventionskurs-gewalt-2-hortgruppen-6/
LOCATION:Hort St. Nikolaus\, 08152 3355\, Deutschland
CATEGORIES:Hort
END:VEVENT
BEGIN:VEVENT
DTSTART;TZID=Europe/Berlin:20241114T090000
DTEND;TZID=Europe/Berlin:20241114T100000
DTSTAMP:20260422T003101
CREATED:20240906T101439Z
LAST-MODIFIED:20240906T101439Z
UID:2162-1731574800-1731578400@kinderzentrum-herrsching.de
SUMMARY:PrÃ¤ventionskurs Gewalt - 2 Gruppen Vorschulkinder
DESCRIPTION:Infos hierzu bekommen Sie bei den FachkrÃ¤ften der Vorschulgruppe \n  \n(You can obtain information about this from the preschool group specialists)
URL:http://kinderzentrum-herrsching.de/termine/praeventionskurs-gewalt-2-gruppen-vorschulkinder-4/
LOCATION:Kindergarten St. Nikolaus\, Deutschland
CATEGORIES:Vorschulgruppe
END:VEVENT
BEGIN:VEVENT
DTSTART;VALUE=DATE:20241115
DTEND;VALUE=DATE:20241117
DTSTAMP:20260422T003101
CREATED:20190908T145626Z
LAST-MODIFIED:20240906T101742Z
UID:652-1731654000-1731740399@kinderzentrum-herrsching.de
SUMMARY:Bundesweiter Vorlesetag 2024 - Aktionen in allen 3 Bereichen
DESCRIPTION:Wir werden den ganzen Tag unseren Schwerpunkt auf das &#8222;VORLESEN&#8220; setzen&#8230;.\nSollten Sie sich als Eltern angesprochen fÃ¼hlen und gerne vorlesen\, setzen Sie sich doch einfach mit der jeweiligen Gruppenleitung in Verbindung. Freuen wÃ¼rden wir uns auch Ã¼ber Eltern die fÃ¼r anderssprachige Kinder vorlesen. Wir begrÃ¼ÃŸen auch GroÃŸeltern oder Autoren sehr gerne bei uns. \n  \nWe will focus on "READING ALOUD" throughout the day...\nIf you feel addressed as a parent and would like to read aloud\, please contact the respective group leader. We would also be happy if parents read to children who speak different languages. We are also happy to welcome grandparents or authors.
URL:http://kinderzentrum-herrsching.de/termine/bundesweiter-vorlesetag/
LOCATION:Kath. Kinderzentrum\, Mitterweg 20\, Herrsching\, 82211\, Deutschland
CATEGORIES:Hort,Kindergarten,Kinderzentrum,Krippe,Vorschulgruppe
END:VEVENT
BEGIN:VEVENT
DTSTART;TZID=Europe/Berlin:20241127T150000
DTEND;TZID=Europe/Berlin:20241127T160000
DTSTAMP:20260422T003101
CREATED:20240906T101917Z
LAST-MODIFIED:20240906T101917Z
UID:2168-1732719600-1732723200@kinderzentrum-herrsching.de
SUMMARY:PrÃ¤ventionskurs - Gewalt 2 Hortgruppen
DESCRIPTION:Infos hierzu bekommen Sie im Hortbereich \n(You can find information about this in the after-school care area)
URL:http://kinderzentrum-herrsching.de/termine/praeventionskurs-gewalt-2-hortgruppen-7/
LOCATION:Hort St. Nikolaus\, 08152 3355\, Deutschland
CATEGORIES:Hort
END:VEVENT
BEGIN:VEVENT
DTSTART;VALUE=DATE:20241129
DTEND;VALUE=DATE:20241201
DTSTAMP:20260422T003101
CREATED:20180115T154642Z
LAST-MODIFIED:20240906T102237Z
UID:369-1732863600-1732949999@kinderzentrum-herrsching.de
SUMMARY:Teamfortbildung Kinderzentrum geschlossen - alle Bereiche
DESCRIPTION:Das Kinderzentrum ist am 29.11.2024 geschlossen &#8211; Teamfortbildung \n(The children&#8217;s center will be closed on November 29th\, 2024 &#8211; team training)
URL:http://kinderzentrum-herrsching.de/termine/kiz-geschlossen-2/
LOCATION:online\, Deutschland
CATEGORIES:Hort,Kindergarten,Kinderzentrum,Krippe,Vorschulgruppe
END:VEVENT
END:VCALENDAR