BEGIN:VCALENDAR
VERSION:2.0
PRODID:-//Kinderzentrum St. Nikolaus Herrsching - ECPv6.5.1.6//NONSGML v1.0//EN
CALSCALE:GREGORIAN
METHOD:PUBLISH
X-WR-CALNAME:Kinderzentrum St. Nikolaus Herrsching
X-ORIGINAL-URL:http://kinderzentrum-herrsching.de
X-WR-CALDESC:Veranstaltungen fÃ¼r Kinderzentrum St. Nikolaus Herrsching
REFRESH-INTERVAL;VALUE=DURATION:PT1H
X-Robots-Tag:noindex
X-PUBLISHED-TTL:PT1H
BEGIN:VTIMEZONE
TZID:Europe/Berlin
BEGIN:DAYLIGHT
TZOFFSETFROM:+0100
TZOFFSETTO:+0200
TZNAME:CEST
DTSTART:20240331T010000
END:DAYLIGHT
BEGIN:STANDARD
TZOFFSETFROM:+0200
TZOFFSETTO:+0100
TZNAME:CET
DTSTART:20241027T010000
END:STANDARD
END:VTIMEZONE
BEGIN:VEVENT
DTSTART;TZID=Europe/Berlin:20241001T090000
DTEND;TZID=Europe/Berlin:20241001T100000
DTSTAMP:20260422T034655
CREATED:20240906T080955Z
LAST-MODIFIED:20240906T083034Z
UID:2070-1727773200-1727776800@kinderzentrum-herrsching.de
SUMMARY:PrÃ¤ventionskurs Gewalt - 2 Gruppen Vorschulkinder
DESCRIPTION:Infos hierzu bekommen Sie bei den FachkrÃ¤ften der Vorschulgruppe \n  \n(You can obtain information about this from the preschool group specialists)
URL:http://kinderzentrum-herrsching.de/termine/praeventionskurs-gewalt-2-gruppen-vorschulkinder/
LOCATION:Kindergarten St. Nikolaus\, Deutschland
CATEGORIES:Vorschulgruppe
END:VEVENT
BEGIN:VEVENT
DTSTART;TZID=Europe/Berlin:20241002T150000
DTEND;TZID=Europe/Berlin:20241002T160000
DTSTAMP:20260422T034655
CREATED:20240906T081208Z
LAST-MODIFIED:20240906T082555Z
UID:2074-1727881200-1727884800@kinderzentrum-herrsching.de
SUMMARY:PrÃ¤ventionskurs Gewalt - 2 Hortgruppen
DESCRIPTION:Infos hierzu bekommen Sie im Hortbereich \n(You can find information about this in the after-school care area)
URL:http://kinderzentrum-herrsching.de/termine/praeventionskurs-gewalt-2-hortgruppen-2/
LOCATION:Hort St. Nikolaus\, 08152 3355\, Deutschland
CATEGORIES:Hort
END:VEVENT
BEGIN:VEVENT
DTSTART;TZID=Europe/Berlin:20241007T083000
DTEND;TZID=Europe/Berlin:20241007T113000
DTSTAMP:20260422T034655
CREATED:20200930T122447Z
LAST-MODIFIED:20240906T081600Z
UID:1114-1728289800-1728300600@kinderzentrum-herrsching.de
SUMMARY:Erntedankfeiern im Kindergarten
DESCRIPTION:Die Gruppen feiern Erntedank intern und ohne Eltern\, bringen Sie Ihr Kind bitte rechtzeitig in die Einrichtung
URL:http://kinderzentrum-herrsching.de/termine/erntedankfeiern-im-kindergarten/
LOCATION:Kindergarten St. Nikolaus\, Deutschland
CATEGORIES:Kindergarten,Vorschulgruppe
END:VEVENT
BEGIN:VEVENT
DTSTART;TZID=Europe/Berlin:20241007T160000
DTEND;TZID=Europe/Berlin:20241007T180000
DTSTAMP:20260422T034655
CREATED:20190908T150004Z
LAST-MODIFIED:20240906T083939Z
UID:655-1728316800-1728324000@kinderzentrum-herrsching.de
SUMMARY:Familiennachmittag im Kindergarten - alle Gruppen (Flamingo\, Frosch\, BÃ¤r\, Fuchs\, Vorschulgruppe)
DESCRIPTION:Einladung folgt\, kommt vom Kindergartenbereich\n \n(Invitation follows\, comes from the kindergarten area)
URL:http://kinderzentrum-herrsching.de/termine/familiennachmittage-im-kindergarten/
LOCATION:Kindergarten St. Nikolaus\, Deutschland
CATEGORIES:Kindergarten,Vorschulgruppe
END:VEVENT
BEGIN:VEVENT
DTSTART;TZID=Europe/Berlin:20241008T090000
DTEND;TZID=Europe/Berlin:20241008T100000
DTSTAMP:20260422T034655
CREATED:20240906T081936Z
LAST-MODIFIED:20240906T082206Z
UID:2084-1728378000-1728381600@kinderzentrum-herrsching.de
SUMMARY:PrÃ¤ventionskurs Gewalt - 2 Gruppen Vorschule
DESCRIPTION:Infos hierzu erhalten Sie bei den FachkrÃ¤ften der Vorschulgruppe \n(You can obtain information about this from the preschool group specialists)
URL:http://kinderzentrum-herrsching.de/termine/praeventionskurs-gewalt-2-gruppen-vorschule/
LOCATION:Kindergarten St. Nikolaus\, Deutschland
CATEGORIES:Vorschulgruppe
END:VEVENT
BEGIN:VEVENT
DTSTART;TZID=Europe/Berlin:20241009T120000
DTEND;TZID=Europe/Berlin:20241009T170000
DTSTAMP:20260422T034655
CREATED:20230323T093839Z
LAST-MODIFIED:20240906T084421Z
UID:1795-1728475200-1728493200@kinderzentrum-herrsching.de
SUMMARY:Teamfortbildung Nachmittags - "Kinder wertvoll begleiten"
DESCRIPTION:Die Einrichtung ist ab 14 Uhr geschlossen\, Betreuung der Kinder endet um 14 Uhr \n(The facility is closed from 2 p.m.\, care for children ends at 2 p.m)
URL:http://kinderzentrum-herrsching.de/termine/teamfortbildung-nachmittags/
LOCATION:Kath. Kinderzentrum\, Mitterweg 20\, Herrsching\, 82211\, Deutschland
CATEGORIES:Hort,Kindergarten,Kinderzentrum,Krippe,Vorschulgruppe
END:VEVENT
BEGIN:VEVENT
DTSTART;TZID=Europe/Berlin:20241015T090000
DTEND;TZID=Europe/Berlin:20241015T100000
DTSTAMP:20260422T034655
CREATED:20240906T091322Z
LAST-MODIFIED:20240906T091322Z
UID:2116-1728982800-1728986400@kinderzentrum-herrsching.de
SUMMARY:PrÃ¤ventionskurs Gewalt â€“ 2 Gruppen Vorschulkinder
DESCRIPTION:Infos hierzu bekommen Sie bei den FachkrÃ¤ften der Vorschulgruppe \n  \n(You can obtain information about this from the preschool group specialists)
URL:http://kinderzentrum-herrsching.de/termine/praeventionskurs-gewalt-2-gruppen-vorschulkinder-2/
LOCATION:Kindergarten St. Nikolaus\, Deutschland
CATEGORIES:Vorschulgruppe
END:VEVENT
BEGIN:VEVENT
DTSTART;TZID=Europe/Berlin:20241015T150000
DTEND;TZID=Europe/Berlin:20241015T170000
DTSTAMP:20260422T034655
CREATED:20190908T122605Z
LAST-MODIFIED:20240906T091744Z
UID:595-1729004400-1729011600@kinderzentrum-herrsching.de
SUMMARY:Familienfest in der Eulengruppe - zum Kennenlernen der Eltern untereinander
DESCRIPTION:Infos hierzu kommen von den jeweiligen Gruppenâ€¦ \n(Information about this comes from the respective groupsâ€¦)
URL:http://kinderzentrum-herrsching.de/termine/familienfest-in-der-schneckengruppe/
LOCATION:Krippe St. Nikolaus\, Deutschland
CATEGORIES:Krippe
END:VEVENT
BEGIN:VEVENT
DTSTART;TZID=Europe/Berlin:20241016T150000
DTEND;TZID=Europe/Berlin:20241016T160000
DTSTAMP:20260422T034655
CREATED:20240906T091506Z
LAST-MODIFIED:20240906T091506Z
UID:2119-1729090800-1729094400@kinderzentrum-herrsching.de
SUMMARY:PrÃ¤ventionskurs â€“ Gewalt 2 Hortgruppen
DESCRIPTION:Infos hierzu bekommen Sie im Hortbereich \n(You can find information about this in the after-school care area)
URL:http://kinderzentrum-herrsching.de/termine/praeventionskurs-gewalt-2-hortgruppen-3/
LOCATION:Hort St. Nikolaus\, 08152 3355\, Deutschland
CATEGORIES:Hort
END:VEVENT
BEGIN:VEVENT
DTSTART;TZID=Europe/Berlin:20241016T150000
DTEND;TZID=Europe/Berlin:20241016T170000
DTSTAMP:20260422T034655
CREATED:20190908T122327Z
LAST-MODIFIED:20240906T091920Z
UID:590-1729090800-1729098000@kinderzentrum-herrsching.de
SUMMARY:Familienfest in der Raupengruppe- zum Kennenlernen der Eltern untereinander
DESCRIPTION:Infos hierzu kommen von den jeweiligen Gruppenâ€¦ \n(Information about this comes from the respective groupsâ€¦)
URL:http://kinderzentrum-herrsching.de/termine/familienfest-in-der-raupengruppe/
LOCATION:Krippe St. Nikolaus\, Deutschland
CATEGORIES:Krippe
END:VEVENT
BEGIN:VEVENT
DTSTART;TZID=Europe/Berlin:20241016T190000
DTEND;TZID=Europe/Berlin:20241016T203000
DTSTAMP:20260422T034655
CREATED:20190908T115745Z
LAST-MODIFIED:20240906T092404Z
UID:572-1729105200-1729110600@kinderzentrum-herrsching.de
SUMMARY:1. Elternabend Hortbereich
DESCRIPTION:Das Team des Hortbereiches erlÃ¤utert die Schwerpunkte der pÃ¤d. Arbeit im Kinderzentrum\, und steht Ihnen fÃ¼r Fragen zur VerfÃ¼gung. \n(The after-school care team explains the focus of the pedagogical program. Work in the children&#8217;s center and is available to answer any questions you may have.) \n 
URL:http://kinderzentrum-herrsching.de/termine/elternbeiratswahl-1-elternabend-in-den-gruppen/
LOCATION:Hort St. Nikolaus\, 08152 3355\, Deutschland
CATEGORIES:Hort
END:VEVENT
BEGIN:VEVENT
DTSTART;VALUE=DATE:20241017
DTEND;VALUE=DATE:20241019
DTSTAMP:20260422T034655
CREATED:20220916T143303Z
LAST-MODIFIED:20240906T092920Z
UID:1739-1729148400-1729234799@kinderzentrum-herrsching.de
SUMMARY:Elternbeiratswahl 2024/2025
DESCRIPTION:Liebe Eltern\, \nwir werden dieses Jahr bei einem gemÃ¼tlichen Kaffeetrinken im Pavillion vor der Einrichtung in zwei Zeitfenstern den Elternbeirat fÃ¼r das Kita-Jahr 2024/2025 wÃ¤hlen. Eine Einladung hierzu folgt&#8230;.. \n(Dear Parents\, This year we will elect the parents&#8216; council for the daycare year 2024/2025 over a cozy coffee in the pavilion in front of the facility in two windows. An invitation to this follows&#8230;)
URL:http://kinderzentrum-herrsching.de/termine/elternbeiratswahl/
LOCATION:Pfarrsaal\, Mitterweg 20\, Herrsching\, Bayern\, 82211\, Deutschland
CATEGORIES:Hort,Kindergarten,Kinderzentrum,Krippe,Vorschulgruppe
END:VEVENT
BEGIN:VEVENT
DTSTART;TZID=Europe/Berlin:20241017T150000
DTEND;TZID=Europe/Berlin:20241017T170000
DTSTAMP:20260422T034655
CREATED:20190908T122822Z
LAST-MODIFIED:20240906T092109Z
UID:598-1729177200-1729184400@kinderzentrum-herrsching.de
SUMMARY:Familienfest in der Igelgruppe - zum Kennenlernen der Eltern untereinander
DESCRIPTION:Infos hierzu kommen von den jeweiligen Gruppenâ€¦ \n(Information about this comes from the respective groupsâ€¦)
URL:http://kinderzentrum-herrsching.de/termine/familienfest-in-der-igelgruppe/
LOCATION:Krippe St. Nikolaus\, Deutschland
CATEGORIES:Krippe
END:VEVENT
BEGIN:VEVENT
DTSTART;TZID=Europe/Berlin:20241018T150000
DTEND;TZID=Europe/Berlin:20241018T170000
DTSTAMP:20260422T034655
CREATED:20190908T121910Z
LAST-MODIFIED:20240906T092220Z
UID:587-1729263600-1729270800@kinderzentrum-herrsching.de
SUMMARY:Familienfest in der KÃ¤fergruppe - zum Kennenlernen der Eltern untereinander
DESCRIPTION:Infos hierzu kommen von den jeweiligen Gruppen&#8230; \n(Information about this comes from the respective groupsâ€¦)
URL:http://kinderzentrum-herrsching.de/termine/familienfest-in-der-kaefergruppe/
LOCATION:Krippe St. Nikolaus\, Deutschland
CATEGORIES:Krippe
END:VEVENT
BEGIN:VEVENT
DTSTART;TZID=Europe/Berlin:20241019T000000
DTEND;TZID=Europe/Berlin:20241019T000000
DTSTAMP:20260422T034655
CREATED:20240906T093624Z
LAST-MODIFIED:20240906T093624Z
UID:2134-1729296000-1729296000@kinderzentrum-herrsching.de
SUMMARY:AuffÃ¼hrung des TheaterstÃ¼ckes "Die BrÃ¼der Jakobs"
DESCRIPTION:Kindergarten- und Hortkinder studierten zusammen mit Fr. Schmid dieses TheaterstÃ¼ck ein. Einladung hierzu folgt. \n(Kindergarten and after-school children rehearsed this play together with Ms. Schmid. Invitation to do so follows.)
URL:http://kinderzentrum-herrsching.de/termine/auffuehrung-des-theaterstueckes-die-brueder-jakobs/
LOCATION:Kath. Kirche St. Nikolaus Herrsching\, Bahnhofstr. 4\, Herrsching
CATEGORIES:Kinderzentrum
END:VEVENT
BEGIN:VEVENT
DTSTART;VALUE=DATE:20241021
DTEND;VALUE=DATE:20241106
DTSTAMP:20260422T034655
CREATED:20240906T094819Z
LAST-MODIFIED:20240906T094819Z
UID:2139-1729494000-1730789999@kinderzentrum-herrsching.de
SUMMARY:Ausstellung "Alles Zucker oder was?" -
DESCRIPTION:Eingangsbereich Kinderzentrum: \nZiele der Ausstellung \n\nSichtbarmachen unerwartet hoher Zuckergehalte in Lebensmitteln\nEinordnen von Zuckeralternativen und SÃ¼ÃŸmachern gegenÃ¼ber Zucker\nKennenlernen von rechtlich geregelten und ungeregelten Werbeaussagen\nReflektieren\, wann die tolerierte tÃ¤gliche Zuckermenge erreicht ist\nErfahren\, wie Zucker und SÃ¼ÃŸungsmittel in der eigenen ErnÃ¤hrung reduziert werden kÃ¶nnen
URL:http://kinderzentrum-herrsching.de/termine/ausstellung-alles-zucker-oder-was/
LOCATION:Kath. Kinderzentrum\, Mitterweg 20\, Herrsching\, 82211\, Deutschland
CATEGORIES:Hort,Kindergarten,Kinderzentrum,Krippe,Vorschulgruppe
END:VEVENT
BEGIN:VEVENT
DTSTART;TZID=Europe/Berlin:20241022T090000
DTEND;TZID=Europe/Berlin:20241022T100000
DTSTAMP:20260422T034655
CREATED:20240906T095237Z
LAST-MODIFIED:20240906T095237Z
UID:2143-1729587600-1729591200@kinderzentrum-herrsching.de
SUMMARY:PrÃ¤ventionskurs Gewalt â€“ 2 Gruppen Vorschule
DESCRIPTION:Infos hierzu erhalten Sie bei den FachkrÃ¤ften der Vorschulgruppe \n(You can obtain information about this from the preschool group specialists)
URL:http://kinderzentrum-herrsching.de/termine/praeventionskurs-gewalt-2-gruppen-vorschule-2/
LOCATION:Kindergarten St. Nikolaus\, Deutschland
CATEGORIES:Vorschulgruppe
END:VEVENT
BEGIN:VEVENT
DTSTART;TZID=Europe/Berlin:20241023T150000
DTEND;TZID=Europe/Berlin:20241023T160000
DTSTAMP:20260422T034655
CREATED:20240906T095407Z
LAST-MODIFIED:20240906T095407Z
UID:2145-1729695600-1729699200@kinderzentrum-herrsching.de
SUMMARY:PrÃ¤ventionskurs - Gewalt 2 Hortgruppen
DESCRIPTION:Infos hierzu bekommen Sie im Hortbereich \n(You can find information about this in the after-school care area)
URL:http://kinderzentrum-herrsching.de/termine/praeventionskurs-gewalt-2-hortgruppen-4/
LOCATION:Hort St. Nikolaus\, 08152 3355\, Deutschland
CATEGORIES:Hort
END:VEVENT
BEGIN:VEVENT
DTSTART;TZID=Europe/Berlin:20241023T151500
DTEND;TZID=Europe/Berlin:20241023T151500
DTSTAMP:20260422T034655
CREATED:20240112T090828Z
LAST-MODIFIED:20240906T095607Z
UID:2001-1729696500-1729696500@kinderzentrum-herrsching.de
SUMMARY:Teamsupervision Krippenbereich- Betreuungsende 15:15 Uhr
DESCRIPTION:Holen Sie bitte Ihr Kind bis spÃ¤testens 15:15 Uhr von der Krippe ab&#8230;.Danke \nPlease pick up your child from kindergarten by 3:15 p.m. at the latest...Thank you
URL:http://kinderzentrum-herrsching.de/termine/teamsupervision-krippenbereich/
LOCATION:Kath. Kinderzentrum\, Mitterweg 20\, Herrsching\, 82211\, Deutschland
CATEGORIES:Krippe
END:VEVENT
BEGIN:VEVENT
DTSTART;TZID=Europe/Berlin:20241023T190000
DTEND;TZID=Europe/Berlin:20241023T203000
DTSTAMP:20260422T034655
CREATED:20190908T131601Z
LAST-MODIFIED:20240906T104241Z
UID:628-1729710000-1729715400@kinderzentrum-herrsching.de
SUMMARY:1. Ã¶ffentliche Elternbeiratssitzung im Andechser Hof - alle Bereiche
DESCRIPTION:Als interessierte Eltern unseres Kinderzentrums sind Sie herzlich eingeladen ab 19:00 Uhr dazu zu kommen. Sie kÃ¶nnen Ihre Themen mit einbringen und sich an AktivitÃ¤ten des Elternbeirates mit Ihren Ideen und Impulsen beteiligen. Wir freuen uns auf Sie. Beachten Sie bitte den Veranstaltungsort! \nhttp://kinderzentrum-herrsching.de/wp-content/uploads/2023/10/Elternbeirat-1023-002.pdf \nAs interested parents in our children's center\, you are cordially invited to come along from 7:00 p.m. You can contribute your topics and take part in the activities of the parents' council with your ideas and impulses. We look forward to seeing you....\nPlease note the venue!
URL:http://kinderzentrum-herrsching.de/termine/1-oeffentliche-elternbeiratssitzung/
LOCATION:Andechser Hof\, Zum Landungssteg 1\, Herrsching\, 82211\, Deutschland
CATEGORIES:Hort,Kindergarten,Kinderzentrum,Krippe,Vorschulgruppe
END:VEVENT
END:VCALENDAR