BEGIN:VCALENDAR
VERSION:2.0
PRODID:-//Kinderzentrum St. Nikolaus Herrsching - ECPv6.5.1.6//NONSGML v1.0//EN
CALSCALE:GREGORIAN
METHOD:PUBLISH
X-WR-CALNAME:Kinderzentrum St. Nikolaus Herrsching
X-ORIGINAL-URL:http://kinderzentrum-herrsching.de
X-WR-CALDESC:Veranstaltungen fÃ¼r Kinderzentrum St. Nikolaus Herrsching
REFRESH-INTERVAL;VALUE=DURATION:PT1H
X-Robots-Tag:noindex
X-PUBLISHED-TTL:PT1H
BEGIN:VTIMEZONE
TZID:Europe/Berlin
BEGIN:DAYLIGHT
TZOFFSETFROM:+0100
TZOFFSETTO:+0200
TZNAME:CEST
DTSTART:20240331T010000
END:DAYLIGHT
BEGIN:STANDARD
TZOFFSETFROM:+0200
TZOFFSETTO:+0100
TZNAME:CET
DTSTART:20241027T010000
END:STANDARD
END:VTIMEZONE
BEGIN:VEVENT
DTSTART;TZID=Europe/Berlin:20240918T150000
DTEND;TZID=Europe/Berlin:20240918T160000
DTSTAMP:20260422T035633
CREATED:20240906T072652Z
LAST-MODIFIED:20240906T082403Z
UID:2056-1726671600-1726675200@kinderzentrum-herrsching.de
SUMMARY:PrÃ¤ventionskurs - Gewalt 2 Hortgruppen
DESCRIPTION:Infos hierzu bekommen Sie im Hortbereich \n(You can find information about this in the after-school care area)
URL:http://kinderzentrum-herrsching.de/termine/praeventionskurs-gewalt-2-hortgruppen/
LOCATION:Hort St. Nikolaus\, 08152 3355\, Deutschland
CATEGORIES:Hort
END:VEVENT
BEGIN:VEVENT
DTSTART;TZID=Europe/Berlin:20240918T190000
DTEND;TZID=Europe/Berlin:20240918T203000
DTSTAMP:20260422T035633
CREATED:20240712T133708Z
LAST-MODIFIED:20240906T082852Z
UID:2039-1726686000-1726691400@kinderzentrum-herrsching.de
SUMMARY:1.Elternabend Krippe
DESCRIPTION:Das Team der Krippe erlÃ¤utert Ihnen die Schwerpunkte der pÃ¤d. Arbeit und steht Ihnen fÃ¼r Ihre Fragen zur VerfÃ¼gung. \n(The team from crib will explain to you the focus of the pedagogical program. Work and is available to answer your questions.)
URL:http://kinderzentrum-herrsching.de/termine/1-elternabend-krippe/
CATEGORIES:Krippe
END:VEVENT
BEGIN:VEVENT
DTSTART;TZID=Europe/Berlin:20240919T150000
DTEND;TZID=Europe/Berlin:20240919T170000
DTSTAMP:20260422T035633
CREATED:20240909T095803Z
LAST-MODIFIED:20240909T095803Z
UID:2246-1726758000-1726765200@kinderzentrum-herrsching.de
SUMMARY:Apfelernte im Hortgarten
DESCRIPTION:http://kinderzentrum-herrsching.de/wp-content/uploads/2024/09/Apfelernte_deutsch.pdf \n 
URL:http://kinderzentrum-herrsching.de/termine/apfelernte-im-hortgarten/
LOCATION:Kath. Kinderzentrum\, Mitterweg 20\, Herrsching\, 82211\, Deutschland
CATEGORIES:Hort,Kindergarten,Kinderzentrum,Krippe,Vorschulgruppe
END:VEVENT
BEGIN:VEVENT
DTSTART;TZID=Europe/Berlin:20240923T190000
DTEND;TZID=Europe/Berlin:20240923T203000
DTSTAMP:20260422T035633
CREATED:20240906T075555Z
LAST-MODIFIED:20240906T082705Z
UID:2062-1727118000-1727123400@kinderzentrum-herrsching.de
SUMMARY:1. Elternabend Kindergartenbereich
DESCRIPTION:Das Team des Kindergartens erlÃ¤utert Ihnen die Schwerpunkte der pÃ¤d. Arbeit und steht Ihnen fÃ¼r Ihre Fragen zur VerfÃ¼gung. \n(The kindergarten team will explain to you the focus of the pedagogical program. Work and is available to answer your questions.)
URL:http://kinderzentrum-herrsching.de/termine/1-elternabend-kindergartenbereich/
CATEGORIES:Kindergarten,Vorschulgruppe
END:VEVENT
BEGIN:VEVENT
DTSTART;TZID=Europe/Berlin:20240925T150000
DTEND;TZID=Europe/Berlin:20240925T160000
DTSTAMP:20260422T035633
CREATED:20240906T080310Z
LAST-MODIFIED:20240906T082502Z
UID:2067-1727276400-1727280000@kinderzentrum-herrsching.de
SUMMARY:PrÃ¤ventionskurs Gewalt - 2 Hortgruppen
DESCRIPTION:Infos hierzu bekommen Sie im Hortbereich \n(You can find information about this in the after-school care area)
URL:http://kinderzentrum-herrsching.de/termine/praeventionskurs-gewalt-1500-1600-uhr-2-hortgruppen/
LOCATION:Hort St. Nikolaus\, 08152 3355\, Deutschland
CATEGORIES:Hort
END:VEVENT
END:VCALENDAR