BEGIN:VCALENDAR
VERSION:2.0
PRODID:-//Kinderzentrum St. Nikolaus Herrsching - ECPv6.5.1.6//NONSGML v1.0//EN
CALSCALE:GREGORIAN
METHOD:PUBLISH
X-WR-CALNAME:Kinderzentrum St. Nikolaus Herrsching
X-ORIGINAL-URL:http://kinderzentrum-herrsching.de
X-WR-CALDESC:Veranstaltungen für Kinderzentrum St. Nikolaus Herrsching
REFRESH-INTERVAL;VALUE=DURATION:PT1H
X-Robots-Tag:noindex
X-PUBLISHED-TTL:PT1H
BEGIN:VTIMEZONE
TZID:Europe/Berlin
BEGIN:DAYLIGHT
TZOFFSETFROM:+0100
TZOFFSETTO:+0200
TZNAME:CEST
DTSTART:20240331T010000
END:DAYLIGHT
BEGIN:STANDARD
TZOFFSETFROM:+0200
TZOFFSETTO:+0100
TZNAME:CET
DTSTART:20241027T010000
END:STANDARD
END:VTIMEZONE
BEGIN:VEVENT
DTSTART;TZID=Europe/Berlin:20240410T151500
DTEND;TZID=Europe/Berlin:20240410T151500
DTSTAMP:20260424T112102
CREATED:20220907T133548Z
LAST-MODIFIED:20240112T090141Z
UID:1639-1712762100-1712762100@kinderzentrum-herrsching.de
SUMMARY:Teamsupervision Betreuungsende Krippenbereich 15:15 Uhr
DESCRIPTION:Betreuung endet im Krippenbereich um 15:15 Uhr  \nPlease pick up your child from krippe by 3:15 p.m. at the latest...Thank you
URL:http://kinderzentrum-herrsching.de/termine/teamsupervision-betreuungsende-1515-uhr-2/
LOCATION:Krippe St. Nikolaus\, Deutschland
CATEGORIES:Krippe
END:VEVENT
BEGIN:VEVENT
DTSTART;VALUE=DATE:20240417
DTEND;VALUE=DATE:20240419
DTSTAMP:20260424T112102
CREATED:20240327T091014Z
LAST-MODIFIED:20240327T091014Z
UID:2025-1713337200-1713423599@kinderzentrum-herrsching.de
SUMMARY:Teamfortbildung - Hort geschlossen
DESCRIPTION:Keine Betreuung im Hortbereich!!!
URL:http://kinderzentrum-herrsching.de/termine/teamfortbildung-hort-geschlossen/
LOCATION:Hort St. Nikolaus\, 08152 3355\, Deutschland
CATEGORIES:Hort
END:VEVENT
BEGIN:VEVENT
DTSTART;VALUE=DATE:20240418
DTEND;VALUE=DATE:20240420
DTSTAMP:20260424T112102
CREATED:20240327T091651Z
LAST-MODIFIED:20240327T091651Z
UID:2027-1713423600-1713509999@kinderzentrum-herrsching.de
SUMMARY:Teamfortbildung - Krippenbereich geschlossen
DESCRIPTION:Keine Betreuung im Krippenbereich!!! \nNo care in the crèche area!!!
URL:http://kinderzentrum-herrsching.de/termine/teamfortbildung-krippenbereich-geschlossen/
LOCATION:Krippe St. Nikolaus\, Deutschland
CATEGORIES:Krippe
END:VEVENT
BEGIN:VEVENT
DTSTART;VALUE=DATE:20240419
DTEND;VALUE=DATE:20240421
DTSTAMP:20260424T112102
CREATED:20240327T091851Z
LAST-MODIFIED:20240327T091851Z
UID:2032-1713510000-1713596399@kinderzentrum-herrsching.de
SUMMARY:Teamfortbildung - Kindergartenbereich geschlossen
DESCRIPTION:Keine Betreuung im Kindergartenbereich!!! \nNo care in the kindergarten area!!!
URL:http://kinderzentrum-herrsching.de/termine/teamfortbildung-kindergartenbereich-geschlossen/
LOCATION:Kindergarten St. Nikolaus\, Deutschland
CATEGORIES:Kindergarten,Vorschulgruppe
END:VEVENT
END:VCALENDAR