BEGIN:VCALENDAR
VERSION:2.0
PRODID:-//Kinderzentrum St. Nikolaus Herrsching - ECPv6.5.1.6//NONSGML v1.0//EN
CALSCALE:GREGORIAN
METHOD:PUBLISH
X-ORIGINAL-URL:http://kinderzentrum-herrsching.de
X-WR-CALDESC:Veranstaltungen für Kinderzentrum St. Nikolaus Herrsching
REFRESH-INTERVAL;VALUE=DURATION:PT1H
X-Robots-Tag:noindex
X-PUBLISHED-TTL:PT1H
BEGIN:VTIMEZONE
TZID:Europe/Berlin
BEGIN:DAYLIGHT
TZOFFSETFROM:+0100
TZOFFSETTO:+0200
TZNAME:CEST
DTSTART:20240331T010000
END:DAYLIGHT
BEGIN:STANDARD
TZOFFSETFROM:+0200
TZOFFSETTO:+0100
TZNAME:CET
DTSTART:20241027T010000
END:STANDARD
END:VTIMEZONE
BEGIN:VEVENT
DTSTART;VALUE=DATE:20240105
DTEND;VALUE=DATE:20240107
DTSTAMP:20260424T175902
CREATED:20200924T123448Z
LAST-MODIFIED:20230917T114109Z
UID:1101-1704438000-1704524399@kinderzentrum-herrsching.de
SUMMARY:Sternsinger kommen in die Einrichtung
DESCRIPTION:für alle Bereiche
URL:http://kinderzentrum-herrsching.de/termine/sternsinger-kommen-in-die-einrichtung/
LOCATION:online\, Deutschland
CATEGORIES:Hort,Kindergarten,Kinderzentrum,Krippe,Vorschulgruppe
END:VEVENT
BEGIN:VEVENT
DTSTART;TZID=Europe/Berlin:20240131T151500
DTEND;TZID=Europe/Berlin:20240131T151500
DTSTAMP:20260424T175902
CREATED:20210914T144530Z
LAST-MODIFIED:20240112T090018Z
UID:1341-1706714100-1706714100@kinderzentrum-herrsching.de
SUMMARY:Teamsupervision Kindergartenbereich - Betreuungsende 15:15 Uhr
DESCRIPTION:Holen Sie bitte Ihr Kind bis spätestens 15:15 Uhr vom Kindergarten ab&#8230;.Danke \nPlease pick up your child from kindergarten by 3:15 p.m. at the latest...Thank you
URL:http://kinderzentrum-herrsching.de/termine/teamsupervision-betreuungsende-1515-uhr/
LOCATION:Kindergarten St. Nikolaus\, Deutschland
CATEGORIES:Kindergarten,Vorschulgruppe
END:VEVENT
END:VCALENDAR