BEGIN:VCALENDAR
VERSION:2.0
PRODID:-//Kinderzentrum St. Nikolaus Herrsching - ECPv6.5.1.6//NONSGML v1.0//EN
CALSCALE:GREGORIAN
METHOD:PUBLISH
X-ORIGINAL-URL:http://kinderzentrum-herrsching.de
X-WR-CALDESC:Veranstaltungen für Kinderzentrum St. Nikolaus Herrsching
REFRESH-INTERVAL;VALUE=DURATION:PT1H
X-Robots-Tag:noindex
X-PUBLISHED-TTL:PT1H
BEGIN:VTIMEZONE
TZID:Europe/Berlin
BEGIN:DAYLIGHT
TZOFFSETFROM:+0100
TZOFFSETTO:+0200
TZNAME:CEST
DTSTART:20230326T010000
END:DAYLIGHT
BEGIN:STANDARD
TZOFFSETFROM:+0200
TZOFFSETTO:+0100
TZNAME:CET
DTSTART:20231029T010000
END:STANDARD
END:VTIMEZONE
BEGIN:VEVENT
DTSTART;VALUE=DATE:20231204
DTEND;VALUE=DATE:20231210
DTSTAMP:20260424T180639
CREATED:20210914T135630Z
LAST-MODIFIED:20230915T100512Z
UID:1317-1701673200-1702105199@kinderzentrum-herrsching.de
SUMMARY:Mottowoche "St. Nikolaus" - Religionspädagogik
DESCRIPTION:Achten Sie auf die Aushänge vor den Gruppen &#8211; dort werden Ihnen die Informationen aus den Gruppen mitgeteilt
URL:http://kinderzentrum-herrsching.de/termine/mottowoche-st-martin-religionspaedagogik/
LOCATION:Kath. Kinderzentrum\, Mitterweg 20\, Herrsching\, 82211\, Deutschland
CATEGORIES:Hort,Kindergarten,Kinderzentrum,Krippe,Vorschulgruppe
END:VEVENT
BEGIN:VEVENT
DTSTART;TZID=Europe/Berlin:20231206T083000
DTEND;TZID=Europe/Berlin:20231206T113000
DTSTAMP:20260424T180639
CREATED:20190918T042925Z
LAST-MODIFIED:20230915T101121Z
UID:684-1701851400-1701862200@kinderzentrum-herrsching.de
SUMMARY:Nikolausfeier Kindergarten - alle Gruppen
DESCRIPTION:ohne Eltern am Vormittag
URL:http://kinderzentrum-herrsching.de/termine/nikolausfeier-in-den-gruppen-der-krippe-und-des-kindergartens/
LOCATION:Krippe St. Nikolaus\, Deutschland
CATEGORIES:Kindergarten
END:VEVENT
BEGIN:VEVENT
DTSTART;TZID=Europe/Berlin:20231207T090000
DTEND;TZID=Europe/Berlin:20231207T120000
DTSTAMP:20260424T180639
CREATED:20211109T155838Z
LAST-MODIFIED:20231203T172040Z
UID:1529-1701939600-1701950400@kinderzentrum-herrsching.de
SUMMARY:Präventionskurs "Wer ist ein Fremder?"
DESCRIPTION:mit Trainer Hr. Wolfgang Flassig und seinem Team
URL:http://kinderzentrum-herrsching.de/termine/praeventionskurs-wer-ist-ein-fremder-4/
LOCATION:Kindergarten St. Nikolaus\, Deutschland
CATEGORIES:Vorschulgruppe
END:VEVENT
BEGIN:VEVENT
DTSTART;TZID=Europe/Berlin:20231215T140000
DTEND;TZID=Europe/Berlin:20231215T160000
DTSTAMP:20260424T180639
CREATED:20200930T124434Z
LAST-MODIFIED:20231206T090032Z
UID:1123-1702648800-1702656000@kinderzentrum-herrsching.de
SUMMARY:Nikolausfeier Hortbereich
DESCRIPTION:
URL:http://kinderzentrum-herrsching.de/termine/nikolausfeier/
LOCATION:Hort St. Nikolaus\, 08152 3355\, Deutschland
CATEGORIES:Hort
END:VEVENT
BEGIN:VEVENT
DTSTART;TZID=Europe/Berlin:20231219T083000
DTEND;TZID=Europe/Berlin:20231219T113000
DTSTAMP:20260424T180639
CREATED:20200930T124541Z
LAST-MODIFIED:20230915T102356Z
UID:1125-1702974600-1702985400@kinderzentrum-herrsching.de
SUMMARY:Weihnachtsfeiern - Kindergarten
DESCRIPTION:gruppenintern ohne Eltern
URL:http://kinderzentrum-herrsching.de/termine/weihnachtsfeiern/
LOCATION:Kindergarten St. Nikolaus\, Deutschland
CATEGORIES:Kindergarten,Vorschulgruppe
END:VEVENT
BEGIN:VEVENT
DTSTART;TZID=Europe/Berlin:20231221T143000
DTEND;TZID=Europe/Berlin:20231221T160000
DTSTAMP:20260424T180639
CREATED:20210914T151144Z
LAST-MODIFIED:20230915T102644Z
UID:1370-1703169000-1703174400@kinderzentrum-herrsching.de
SUMMARY:Weihnachtsfeier Hort - die Kinder gestalten ihre Feier
DESCRIPTION:ohne Eltern
URL:http://kinderzentrum-herrsching.de/termine/weihnachtsfeier-hort-die-kinder-gestalten-ihre-feier/
LOCATION:Hort St. Nikolaus\, 08152 3355\, Deutschland
CATEGORIES:Hort
END:VEVENT
END:VCALENDAR