BEGIN:VCALENDAR
VERSION:2.0
PRODID:-//Kinderzentrum St. Nikolaus Herrsching - ECPv6.5.1.6//NONSGML v1.0//EN
CALSCALE:GREGORIAN
METHOD:PUBLISH
X-WR-CALNAME:Kinderzentrum St. Nikolaus Herrsching
X-ORIGINAL-URL:http://kinderzentrum-herrsching.de
X-WR-CALDESC:Veranstaltungen fÃ¼r Kinderzentrum St. Nikolaus Herrsching
REFRESH-INTERVAL;VALUE=DURATION:PT1H
X-Robots-Tag:noindex
X-PUBLISHED-TTL:PT1H
BEGIN:VTIMEZONE
TZID:Europe/Berlin
BEGIN:DAYLIGHT
TZOFFSETFROM:+0100
TZOFFSETTO:+0200
TZNAME:CEST
DTSTART:20230326T010000
END:DAYLIGHT
BEGIN:STANDARD
TZOFFSETFROM:+0200
TZOFFSETTO:+0100
TZNAME:CET
DTSTART:20231029T010000
END:STANDARD
END:VTIMEZONE
BEGIN:VEVENT
DTSTART;TZID=Europe/Berlin:20230608T080000
DTEND;TZID=Europe/Berlin:20230608T170000
DTSTAMP:20260425T034717
CREATED:20220907T143415Z
LAST-MODIFIED:20220907T143415Z
UID:1696-1686211200-1686243600@kinderzentrum-herrsching.de
SUMMARY:Fronleichnamsprozession von der Pfarrei aus
DESCRIPTION:Eltern gestalten einen Altar fÃ¼r die Prozession
URL:http://kinderzentrum-herrsching.de/termine/fronleichnamsprozession-von-der-pfarrei-aus/
LOCATION:Kath. Kinderzentrum\, Mitterweg 20\, Herrsching\, 82211\, Deutschland
CATEGORIES:Hort,Kindergarten,Kinderzentrum,Krippe,Vorschulgruppe
END:VEVENT
BEGIN:VEVENT
DTSTART;TZID=Europe/Berlin:20230616T080000
DTEND;TZID=Europe/Berlin:20230616T110000
DTSTAMP:20260425T034717
CREATED:20230612T131748Z
LAST-MODIFIED:20230612T131748Z
UID:1806-1686902400-1686913200@kinderzentrum-herrsching.de
SUMMARY:Kooperationsstunde Vorschulkinder mit der Schule
DESCRIPTION:die Kinder mÃ¼ssen bis 08:00 Uhr im Kindergarten sein
URL:http://kinderzentrum-herrsching.de/termine/kooperationsstunde-vorschulkinder-mit-der-schule/
LOCATION:Kindergarten St. Nikolaus\, Deutschland
CATEGORIES:Kindergarten
END:VEVENT
BEGIN:VEVENT
DTSTART;TZID=Europe/Berlin:20230623T080000
DTEND;TZID=Europe/Berlin:20230623T110000
DTSTAMP:20260425T034717
CREATED:20230612T132054Z
LAST-MODIFIED:20230612T132054Z
UID:1809-1687507200-1687518000@kinderzentrum-herrsching.de
SUMMARY:Kooperationsstunde Vorschulkinder mit der Schule
DESCRIPTION:die Kinder mÃ¼ssen bis 08:00 Uhr im Kindergarten sein
URL:http://kinderzentrum-herrsching.de/termine/kooperationsstunde-vorschulkinder-mit-der-schule-2/
LOCATION:Kindergarten St. Nikolaus\, Deutschland
CATEGORIES:Kindergarten
END:VEVENT
BEGIN:VEVENT
DTSTART;TZID=Europe/Berlin:20230623T160000
DTEND;TZID=Europe/Berlin:20230623T190000
DTSTAMP:20260425T034717
CREATED:20211004T093044Z
LAST-MODIFIED:20220907T143650Z
UID:1499-1687536000-1687546800@kinderzentrum-herrsching.de
SUMMARY:Sommerfest 2023
DESCRIPTION:Betreuung endet an diesem Tag um 12 Uhr um das Fest noch vorbereiten zu kÃ¶nnen\, holen Sie bitte die Kinder bis 12 Uhr ab&#8230;.DANKE \n  \nPlanung und Einladung folgt
URL:http://kinderzentrum-herrsching.de/termine/sommerfest/
LOCATION:Kath. Kinderzentrum\, Mitterweg 20\, Herrsching\, 82211\, Deutschland
CATEGORIES:Hort,Kindergarten,Kinderzentrum,Krippe,Vorschulgruppe
END:VEVENT
END:VCALENDAR