BEGIN:VCALENDAR
VERSION:2.0
PRODID:-//Kinderzentrum St. Nikolaus Herrsching - ECPv6.5.1.6//NONSGML v1.0//EN
CALSCALE:GREGORIAN
METHOD:PUBLISH
X-WR-CALNAME:Kinderzentrum St. Nikolaus Herrsching
X-ORIGINAL-URL:http://kinderzentrum-herrsching.de
X-WR-CALDESC:Veranstaltungen für Kinderzentrum St. Nikolaus Herrsching
REFRESH-INTERVAL;VALUE=DURATION:PT1H
X-Robots-Tag:noindex
X-PUBLISHED-TTL:PT1H
BEGIN:VTIMEZONE
TZID:Europe/Berlin
BEGIN:DAYLIGHT
TZOFFSETFROM:+0100
TZOFFSETTO:+0200
TZNAME:CEST
DTSTART:20220327T010000
END:DAYLIGHT
BEGIN:STANDARD
TZOFFSETFROM:+0200
TZOFFSETTO:+0100
TZNAME:CET
DTSTART:20221030T010000
END:STANDARD
END:VTIMEZONE
BEGIN:VEVENT
DTSTART;TZID=Europe/Berlin:20221205T080000
DTEND;TZID=Europe/Berlin:20221223T170000
DTSTAMP:20260425T134857
CREATED:20221123T074037Z
LAST-MODIFIED:20221123T074037Z
UID:1759-1670227200-1671814800@kinderzentrum-herrsching.de
SUMMARY:Weihnachtsmarkt-Tischlein
DESCRIPTION:Von 05.12.22 &#8211; 23.12.2022 steht im Eingangsbereich vor dem Büro ein Weihnachtsmarkttisch\, Infos hierzu können Sie aus dem Infoblatt unt folgendem Link ersehen. \nWeihnachtsmarkt Tischlein_Info Elternbeirat 2022
URL:http://kinderzentrum-herrsching.de/termine/weihnachtsmarkt-tischlein/
LOCATION:Kath. Kinderzentrum\, Mitterweg 20\, Herrsching\, 82211\, Deutschland
CATEGORIES:Hort,Kindergarten,Kinderzentrum,Krippe,Vorschulgruppe
END:VEVENT
BEGIN:VEVENT
DTSTART;VALUE=DATE:20221213
DTEND;VALUE=DATE:20221215
DTSTAMP:20260425T134857
CREATED:20221123T082344Z
LAST-MODIFIED:20221123T082344Z
UID:1762-1670914800-1671001199@kinderzentrum-herrsching.de
SUMMARY:"Meins wird Deins" - eine Teilaktion im Nachklang zu st. Martin
DESCRIPTION:meins_wird_deins_elternbrief_2022_KiZ St Nikolaus
URL:http://kinderzentrum-herrsching.de/termine/meins-wird-deins-eine-teilaktion-im-nachklang-zu-st-martin/
LOCATION:online\, Deutschland
CATEGORIES:Hort,Kindergarten,Kinderzentrum,Krippe,Vorschulgruppe
END:VEVENT
BEGIN:VEVENT
DTSTART;TZID=Europe/Berlin:20221216T150000
DTEND;TZID=Europe/Berlin:20221216T170000
DTSTAMP:20260425T134857
CREATED:20221123T073545Z
LAST-MODIFIED:20221123T073545Z
UID:1753-1671202800-1671210000@kinderzentrum-herrsching.de
SUMMARY:Weihnachtsmarkt für die Kinder und Familien des Kinderzentrums
DESCRIPTION:http://kinderzentrum-herrsching.de/wp-content/uploads/2022/11/KIZ-Weihnachtsmarkt-002.jpg \nWir freuen uns in unserem kleinen Rahmen ein wenig weihnachtliche Stimmung einkehren zu lassen und veranstalten deshalb mit einem Stand\, an dem verschiedene gebastelte Dinge der Kinder und der Eltern erworben werden können\, sowie ein heißes Getränk und etwas für den kleinen Hunger angeboten wird. Ein kleines Rahmenprogramm aus den Reihen der Kinder wird den Nachmittag begleiten.
URL:http://kinderzentrum-herrsching.de/termine/weihnachtsmarkt-fuer-die-kinder-und-familien-des-kinderzentrums/
LOCATION:Kath. Kinderzentrum\, Mitterweg 20\, Herrsching\, 82211\, Deutschland
CATEGORIES:Hort,Kindergarten,Kinderzentrum,Krippe,Vorschulgruppe
END:VEVENT
END:VCALENDAR