BEGIN:VCALENDAR
VERSION:2.0
PRODID:-//Kinderzentrum St. Nikolaus Herrsching - ECPv6.5.1.6//NONSGML v1.0//EN
CALSCALE:GREGORIAN
METHOD:PUBLISH
X-ORIGINAL-URL:http://kinderzentrum-herrsching.de
X-WR-CALDESC:Veranstaltungen für Kinderzentrum St. Nikolaus Herrsching
REFRESH-INTERVAL;VALUE=DURATION:PT1H
X-Robots-Tag:noindex
X-PUBLISHED-TTL:PT1H
BEGIN:VTIMEZONE
TZID:Europe/Berlin
BEGIN:DAYLIGHT
TZOFFSETFROM:+0100
TZOFFSETTO:+0200
TZNAME:CEST
DTSTART:20220327T010000
END:DAYLIGHT
BEGIN:STANDARD
TZOFFSETFROM:+0200
TZOFFSETTO:+0100
TZNAME:CET
DTSTART:20221030T010000
END:STANDARD
END:VTIMEZONE
BEGIN:VEVENT
DTSTART;TZID=Europe/Berlin:20220907T080000
DTEND;TZID=Europe/Berlin:20220907T170000
DTSTAMP:20260425T190225
CREATED:20220907T132610Z
LAST-MODIFIED:20220907T132610Z
UID:1633-1662537600-1662570000@kinderzentrum-herrsching.de
SUMMARY:Buß- und Bettag - geöffnet!!!!
DESCRIPTION:Liebe Eltern&#8230;..für die Hortkinder ist die Einrichtung am Buß- und Bettag ganz regulär wie in den Ferien ab 7 Uhr  &#8211; 17 Uhr geöffnet.
URL:http://kinderzentrum-herrsching.de/termine/buss-und-bettag-geoeffnet/
LOCATION:online\, Deutschland
END:VEVENT
BEGIN:VEVENT
DTSTART;TZID=Europe/Berlin:20220917T130000
DTEND;TZID=Europe/Berlin:20220917T170000
DTSTAMP:20260425T190225
CREATED:20220907T121720Z
LAST-MODIFIED:20220907T121720Z
UID:1581-1663419600-1663434000@kinderzentrum-herrsching.de
SUMMARY:Selbstverteidigungskurs für die Mütter
DESCRIPTION:mit Trainer Wolfgang Flasig in der Turnhalle des Kinderzentrums
URL:http://kinderzentrum-herrsching.de/termine/selbstverteidigungskurs-fuer-die-muetter/
LOCATION:Kath. Kinderzentrum\, Mitterweg 20\, Herrsching\, 82211\, Deutschland
CATEGORIES:Kinderzentrum
END:VEVENT
BEGIN:VEVENT
DTSTART;TZID=Europe/Berlin:20220924T130000
DTEND;TZID=Europe/Berlin:20220924T170000
DTSTAMP:20260425T190225
CREATED:20220907T122439Z
LAST-MODIFIED:20220907T122439Z
UID:1586-1664024400-1664038800@kinderzentrum-herrsching.de
SUMMARY:Selbstverteidigungskurs für die Mütter
DESCRIPTION:mit Trainer Wolfgang Flasig in der Turnhalle im Kinderzentrum
URL:http://kinderzentrum-herrsching.de/termine/selbstverteidigungskurs-fuer-die-muetter-2/
LOCATION:Kath. Kinderzentrum\, Mitterweg 20\, Herrsching\, 82211\, Deutschland
CATEGORIES:Kinderzentrum
END:VEVENT
BEGIN:VEVENT
DTSTART;TZID=Europe/Berlin:20220930T090000
DTEND;TZID=Europe/Berlin:20220930T110000
DTSTAMP:20260425T190225
CREATED:20200924T111905Z
LAST-MODIFIED:20220907T123909Z
UID:1050-1664528400-1664535600@kinderzentrum-herrsching.de
SUMMARY:Erntedankfeste - Krippe
DESCRIPTION:Wir feiern Erntedank am Vormittag gruppenintern &#8211; ohne Eltern
URL:http://kinderzentrum-herrsching.de/termine/erntedankfeste-krippe/
LOCATION:Krippe St. Nikolaus\, Deutschland
CATEGORIES:Krippe
END:VEVENT
END:VCALENDAR