BEGIN:VCALENDAR
VERSION:2.0
PRODID:-//Kinderzentrum St. Nikolaus Herrsching - ECPv6.5.1.6//NONSGML v1.0//EN
CALSCALE:GREGORIAN
METHOD:PUBLISH
X-ORIGINAL-URL:http://kinderzentrum-herrsching.de
X-WR-CALDESC:Veranstaltungen fÃ¼r Kinderzentrum St. Nikolaus Herrsching
REFRESH-INTERVAL;VALUE=DURATION:PT1H
X-Robots-Tag:noindex
X-PUBLISHED-TTL:PT1H
BEGIN:VTIMEZONE
TZID:Europe/Berlin
BEGIN:DAYLIGHT
TZOFFSETFROM:+0100
TZOFFSETTO:+0200
TZNAME:CEST
DTSTART:20220327T010000
END:DAYLIGHT
BEGIN:STANDARD
TZOFFSETFROM:+0200
TZOFFSETTO:+0100
TZNAME:CET
DTSTART:20221030T010000
END:STANDARD
END:VTIMEZONE
BEGIN:VEVENT
DTSTART;TZID=Europe/Berlin:20220713T190000
DTEND;TZID=Europe/Berlin:20220713T203000
DTSTAMP:20260425T222640
CREATED:20220629T122957Z
LAST-MODIFIED:20220629T122957Z
UID:1564-1657738800-1657744200@kinderzentrum-herrsching.de
SUMMARY:Elternabend online mit ZOOM  - Vorschulkinder 2022/2023
DESCRIPTION:ZOOM-Link folgt per Email!!! \nâ€žSegel setzen\, Leinen los! Auf Piratenreise im letzten Kitajahr vor der Schuleâ€œ \n \nmit diesen Worten mÃ¶chten wir Sie recht herzlich zu unserem Elternabend zur ganzheitlichen Vorbereitung auf die Schule im letzten Jahr \nvor der Einschulung einladen. Da es einige VerÃ¤nderungen fÃ¼r die Kinder geben wird\, wollen wir Ihnen unser neu erarbeitetes Konzept\, gÃ¼ltig ab 01.09.2022 gerne vorstellen. Interessierte Eltern\, die noch kein Kind in diesem Alter haben bitte per Email an Fr. Buchinger kita.st.nikolaus.herrsching@bistum-augsburg.deÂ  wenden. \n 
URL:http://kinderzentrum-herrsching.de/termine/elternabend-online-mit-zoom-vorschulkinder-2022-2023/
LOCATION:online\, Deutschland
CATEGORIES:Kindergarten
END:VEVENT
BEGIN:VEVENT
DTSTART;TZID=Europe/Berlin:20220715T000000
DTEND;TZID=Europe/Berlin:20220715T000000
DTSTAMP:20260425T222640
CREATED:20190909T045737Z
LAST-MODIFIED:20210915T140904Z
UID:758-1657843200-1657843200@kinderzentrum-herrsching.de
SUMMARY:Abschiedsfest Hort fÃ¼r die Kinder der 4. Klassen
DESCRIPTION:Detailierte Infos folgen von den Mitarbeitern des Hortes &#8211; Uhrzeit wird noch bekannt gegeben
URL:http://kinderzentrum-herrsching.de/termine/abschiedsfest-hort/
LOCATION:Hort St. Nikolaus\, 08152 3355\, Deutschland
CATEGORIES:Hort
END:VEVENT
BEGIN:VEVENT
DTSTART;VALUE=DATE:20220720
DTEND;VALUE=DATE:20220722
DTSTAMP:20260425T222640
CREATED:20220629T123228Z
LAST-MODIFIED:20220629T123228Z
UID:1570-1658300400-1658386799@kinderzentrum-herrsching.de
SUMMARY:Teamfortbildung - Krippe
DESCRIPTION:Krippe ganztÃ¤gig geschlossen
URL:http://kinderzentrum-herrsching.de/termine/teamfortbildung-krippe/
LOCATION:Krippe St. Nikolaus\, Deutschland
CATEGORIES:Hort,Kindergarten,Kinderzentrum,Krippe
END:VEVENT
END:VCALENDAR