BEGIN:VCALENDAR
VERSION:2.0
PRODID:-//Kinderzentrum St. Nikolaus Herrsching - ECPv6.5.1.6//NONSGML v1.0//EN
CALSCALE:GREGORIAN
METHOD:PUBLISH
X-ORIGINAL-URL:http://kinderzentrum-herrsching.de
X-WR-CALDESC:Veranstaltungen für Kinderzentrum St. Nikolaus Herrsching
REFRESH-INTERVAL;VALUE=DURATION:PT1H
X-Robots-Tag:noindex
X-PUBLISHED-TTL:PT1H
BEGIN:VTIMEZONE
TZID:Europe/Berlin
BEGIN:DAYLIGHT
TZOFFSETFROM:+0100
TZOFFSETTO:+0200
TZNAME:CEST
DTSTART:20220327T010000
END:DAYLIGHT
BEGIN:STANDARD
TZOFFSETFROM:+0200
TZOFFSETTO:+0100
TZNAME:CET
DTSTART:20221030T010000
END:STANDARD
END:VTIMEZONE
BEGIN:VEVENT
DTSTART;VALUE=DATE:20220228
DTEND;VALUE=DATE:20220306
DTSTAMP:20260426T050051
CREATED:20210915T144018Z
LAST-MODIFIED:20210915T144018Z
UID:1387-1646031600-1646463599@kinderzentrum-herrsching.de
SUMMARY:Ferienbetreuung Faschingsferien - mit Ferienprogramm
DESCRIPTION:Infos kommen vom Hort
URL:http://kinderzentrum-herrsching.de/termine/ferienbetreuung-faschingsferien-mit-ferienprogramm/
LOCATION:Hort St. Nikolaus\, 08152 3355\, Deutschland
CATEGORIES:Hort
END:VEVENT
BEGIN:VEVENT
DTSTART;TZID=Europe/Berlin:20220302T090000
DTEND;TZID=Europe/Berlin:20220302T103000
DTSTAMP:20260426T050051
CREATED:20200924T124233Z
LAST-MODIFIED:20210914T155457Z
UID:1106-1646211600-1646217000@kinderzentrum-herrsching.de
SUMMARY:Fastenfrühstück - Aschermittwoch
DESCRIPTION:Erarbeitung der Bedeutung der Fastenzeit
URL:http://kinderzentrum-herrsching.de/termine/fastenfruehstueck-aschermittwoch/
LOCATION:Hort St. Nikolaus\, 08152 3355\, Deutschland
CATEGORIES:Hort
END:VEVENT
BEGIN:VEVENT
DTSTART;VALUE=DATE:20220307
DTEND;VALUE=DATE:20220320
DTSTAMP:20260426T050051
CREATED:20211109T061503Z
LAST-MODIFIED:20211109T061503Z
UID:1517-1646636400-1647673199@kinderzentrum-herrsching.de
SUMMARY:Der Fotograf kommt
DESCRIPTION:Infos folgen über einen gesonderten Elternbrief oder Email!
URL:http://kinderzentrum-herrsching.de/termine/der-fotograf-kommt-3/
LOCATION:online\, Deutschland
CATEGORIES:Hort,Kindergarten,Kinderzentrum,Krippe
END:VEVENT
BEGIN:VEVENT
DTSTART;VALUE=DATE:20220309
DTEND;VALUE=DATE:20220311
DTSTAMP:20260426T050051
CREATED:20211109T155338Z
LAST-MODIFIED:20211109T155338Z
UID:1524-1646809200-1646895599@kinderzentrum-herrsching.de
SUMMARY:Präventionskurs "Wer ist ein Fremder?"
DESCRIPTION:Nachmittags mit Trainer Hr. Wolfgang Flassig
URL:http://kinderzentrum-herrsching.de/termine/praeventionskurs-wer-ist-ein-fremder-2/
LOCATION:online\, Deutschland
CATEGORIES:Hort
END:VEVENT
BEGIN:VEVENT
DTSTART;VALUE=DATE:20220311
DTEND;VALUE=DATE:20220313
DTSTAMP:20260426T050051
CREATED:20220225T091609Z
LAST-MODIFIED:20220225T091609Z
UID:1547-1646982000-1647068399@kinderzentrum-herrsching.de
SUMMARY:Fortbildung Gesamtteam - "Inklusion"
DESCRIPTION:Die Einrichtung ist Geschlossen!!!!
URL:http://kinderzentrum-herrsching.de/termine/fortbildung-gesamtteam-inklusion/
LOCATION:online\, Deutschland
CATEGORIES:Hort,Kindergarten,Kinderzentrum,Krippe
END:VEVENT
BEGIN:VEVENT
DTSTART;VALUE=DATE:20220315
DTEND;VALUE=DATE:20220318
DTSTAMP:20260426T050051
CREATED:20211109T155631Z
LAST-MODIFIED:20211109T155631Z
UID:1527-1647327600-1647500399@kinderzentrum-herrsching.de
SUMMARY:Präventionskurs "Wer ist ein Fremder?"
DESCRIPTION:Vormittags mit Trainer Hr. Wolfgang Flassig
URL:http://kinderzentrum-herrsching.de/termine/praeventionskurs-wer-ist-ein-fremder-3/
LOCATION:online\, Deutschland
CATEGORIES:Kindergarten
END:VEVENT
BEGIN:VEVENT
DTSTART;TZID=Europe/Berlin:20220325T143000
DTEND;TZID=Europe/Berlin:20220325T160000
DTSTAMP:20260426T050051
CREATED:20201001T074738Z
LAST-MODIFIED:20210914T160933Z
UID:1138-1648218600-1648224000@kinderzentrum-herrsching.de
SUMMARY:Musiknachmittag
DESCRIPTION:ohne Eltern
URL:http://kinderzentrum-herrsching.de/termine/musiknachmittag/
LOCATION:Hort St. Nikolaus\, 08152 3355\, Deutschland
CATEGORIES:Hort
END:VEVENT
END:VCALENDAR