BEGIN:VCALENDAR
VERSION:2.0
PRODID:-//Kinderzentrum St. Nikolaus Herrsching - ECPv6.5.1.6//NONSGML v1.0//EN
CALSCALE:GREGORIAN
METHOD:PUBLISH
X-WR-CALNAME:Kinderzentrum St. Nikolaus Herrsching
X-ORIGINAL-URL:http://kinderzentrum-herrsching.de
X-WR-CALDESC:Veranstaltungen für Kinderzentrum St. Nikolaus Herrsching
REFRESH-INTERVAL;VALUE=DURATION:PT1H
X-Robots-Tag:noindex
X-PUBLISHED-TTL:PT1H
BEGIN:VTIMEZONE
TZID:Europe/Berlin
BEGIN:DAYLIGHT
TZOFFSETFROM:+0100
TZOFFSETTO:+0200
TZNAME:CEST
DTSTART:20250330T010000
END:DAYLIGHT
BEGIN:STANDARD
TZOFFSETFROM:+0200
TZOFFSETTO:+0100
TZNAME:CET
DTSTART:20251026T010000
END:STANDARD
END:VTIMEZONE
BEGIN:VEVENT
DTSTART;TZID=Europe/Berlin:20250722T100000
DTEND;TZID=Europe/Berlin:20250722T110000
DTSTAMP:20260419T172550
CREATED:20190909T045622Z
LAST-MODIFIED:20240906T114807Z
UID:755-1753178400-1753182000@kinderzentrum-herrsching.de
SUMMARY:Schultütengottesdienst
DESCRIPTION:Die Eltern unserer Vorschulkinder sind herzlich willkommen um die feierliche Schultütenübergabe mitzufeiern. \n(The parents of our preschool children are warmly welcome to join in the ceremonial handover of the school cones.)
URL:http://kinderzentrum-herrsching.de/termine/schultuetengottesdienst/
LOCATION:Kindergarten St. Nikolaus\, Deutschland
CATEGORIES:Kindergarten,Vorschulgruppe
END:VEVENT
BEGIN:VEVENT
DTSTART;TZID=Europe/Berlin:20250722T150000
DTEND;TZID=Europe/Berlin:20250722T170000
DTSTAMP:20260419T172550
CREATED:20230918T045127Z
LAST-MODIFIED:20240906T114935Z
UID:1948-1753196400-1753203600@kinderzentrum-herrsching.de
SUMMARY:Abschlußfest Krippe
DESCRIPTION:Infos kommen von den Gruppen \n(Information comes from the groups)
URL:http://kinderzentrum-herrsching.de/termine/abschlussfest-krippe/
LOCATION:Krippe St. Nikolaus\, Deutschland
CATEGORIES:Krippe
END:VEVENT
END:VCALENDAR