BEGIN:VCALENDAR
VERSION:2.0
PRODID:-//Kinderzentrum St. Nikolaus Herrsching - ECPv6.5.1.6//NONSGML v1.0//EN
CALSCALE:GREGORIAN
METHOD:PUBLISH
X-WR-CALNAME:Kinderzentrum St. Nikolaus Herrsching
X-ORIGINAL-URL:http://kinderzentrum-herrsching.de
X-WR-CALDESC:Veranstaltungen für Kinderzentrum St. Nikolaus Herrsching
REFRESH-INTERVAL;VALUE=DURATION:PT1H
X-Robots-Tag:noindex
X-PUBLISHED-TTL:PT1H
BEGIN:VTIMEZONE
TZID:Europe/Berlin
BEGIN:DAYLIGHT
TZOFFSETFROM:+0100
TZOFFSETTO:+0200
TZNAME:CEST
DTSTART:20250330T010000
END:DAYLIGHT
BEGIN:STANDARD
TZOFFSETFROM:+0200
TZOFFSETTO:+0100
TZNAME:CET
DTSTART:20251026T010000
END:STANDARD
END:VTIMEZONE
BEGIN:VEVENT
DTSTART;VALUE=DATE:20250305
DTEND;VALUE=DATE:20250422
DTSTAMP:20260421T192705
CREATED:20190909T041632Z
LAST-MODIFIED:20240906T110355Z
UID:715-1741158000-1745218799@kinderzentrum-herrsching.de
SUMMARY:Spielzeugreduzierte Zeit im Kindergarten
DESCRIPTION:Als Aktion in der Fastenzeit gibt es die &#8222;spielzeugreduzierte Zeit&#8220; &#8211; mehr Infos im Konzept\, oder bei den Pädagogen
URL:http://kinderzentrum-herrsching.de/termine/spielzeugreduzierte-zeit-im-kindergarten/
LOCATION:Kindergarten St. Nikolaus\, Deutschland
CATEGORIES:Kindergarten,Vorschulgruppe
END:VEVENT
END:VCALENDAR