BEGIN:VCALENDAR
VERSION:2.0
PRODID:-//Kinderzentrum St. Nikolaus Herrsching - ECPv6.5.1.6//NONSGML v1.0//EN
CALSCALE:GREGORIAN
METHOD:PUBLISH
X-ORIGINAL-URL:http://kinderzentrum-herrsching.de
X-WR-CALDESC:Veranstaltungen für Kinderzentrum St. Nikolaus Herrsching
REFRESH-INTERVAL;VALUE=DURATION:PT1H
X-Robots-Tag:noindex
X-PUBLISHED-TTL:PT1H
BEGIN:VTIMEZONE
TZID:Europe/Berlin
BEGIN:DAYLIGHT
TZOFFSETFROM:+0100
TZOFFSETTO:+0200
TZNAME:CEST
DTSTART:20250330T010000
END:DAYLIGHT
BEGIN:STANDARD
TZOFFSETFROM:+0200
TZOFFSETTO:+0100
TZNAME:CET
DTSTART:20251026T010000
END:STANDARD
END:VTIMEZONE
BEGIN:VEVENT
DTSTART;TZID=Europe/Berlin:20250204T140000
DTEND;TZID=Europe/Berlin:20250204T140000
DTSTAMP:20260421T210922
CREATED:20240906T105315Z
LAST-MODIFIED:20240906T105315Z
UID:2195-1738677600-1738677600@kinderzentrum-herrsching.de
SUMMARY:Teamfortbildung Nachmittags - "Kinder wertvoll begleiten"
DESCRIPTION:Die Einrichtung ist ab 14 Uhr geschlossen\, Betreuung der Kinder endet um 14 Uhr \n(The facility is closed from 2 p.m.\, care for children ends at 2 p.m)
URL:http://kinderzentrum-herrsching.de/termine/teamfortbildung-nachmittags-kinder-wertvoll-begleiten/
LOCATION:Kath. Kinderzentrum\, Mitterweg 20\, Herrsching\, 82211\, Deutschland
CATEGORIES:Hort,Kindergarten,Kinderzentrum,Krippe,Vorschulgruppe
END:VEVENT
END:VCALENDAR