BEGIN:VCALENDAR
VERSION:2.0
PRODID:-//Kinderzentrum St. Nikolaus Herrsching - ECPv6.5.1.6//NONSGML v1.0//EN
CALSCALE:GREGORIAN
METHOD:PUBLISH
X-ORIGINAL-URL:http://kinderzentrum-herrsching.de
X-WR-CALDESC:Veranstaltungen für Kinderzentrum St. Nikolaus Herrsching
REFRESH-INTERVAL;VALUE=DURATION:PT1H
X-Robots-Tag:noindex
X-PUBLISHED-TTL:PT1H
BEGIN:VTIMEZONE
TZID:Europe/Berlin
BEGIN:DAYLIGHT
TZOFFSETFROM:+0100
TZOFFSETTO:+0200
TZNAME:CEST
DTSTART:20250330T010000
END:DAYLIGHT
BEGIN:STANDARD
TZOFFSETFROM:+0200
TZOFFSETTO:+0100
TZNAME:CET
DTSTART:20251026T010000
END:STANDARD
END:VTIMEZONE
BEGIN:VEVENT
DTSTART;TZID=Europe/Berlin:20250125T100000
DTEND;TZID=Europe/Berlin:20250125T120000
DTSTAMP:20260421T225400
CREATED:20190908T152304Z
LAST-MODIFIED:20240906T104843Z
UID:666-1737799200-1737806400@kinderzentrum-herrsching.de
SUMMARY:TAG DER OFFENEN TÜR
DESCRIPTION:
URL:http://kinderzentrum-herrsching.de/termine/kinotag-fuer-die-hortkinder-4/
LOCATION:Kath. Kinderzentrum\, Mitterweg 20\, Herrsching\, 82211\, Deutschland
CATEGORIES:Hort,Kindergarten,Kinderzentrum,Krippe,Vorschulgruppe
END:VEVENT
END:VCALENDAR