BEGIN:VCALENDAR
VERSION:2.0
PRODID:-//Kinderzentrum St. Nikolaus Herrsching - ECPv6.5.1.6//NONSGML v1.0//EN
CALSCALE:GREGORIAN
METHOD:PUBLISH
X-ORIGINAL-URL:http://kinderzentrum-herrsching.de
X-WR-CALDESC:Veranstaltungen für Kinderzentrum St. Nikolaus Herrsching
REFRESH-INTERVAL;VALUE=DURATION:PT1H
X-Robots-Tag:noindex
X-PUBLISHED-TTL:PT1H
BEGIN:VTIMEZONE
TZID:Europe/Berlin
BEGIN:DAYLIGHT
TZOFFSETFROM:+0100
TZOFFSETTO:+0200
TZNAME:CEST
DTSTART:20250330T010000
END:DAYLIGHT
BEGIN:STANDARD
TZOFFSETFROM:+0200
TZOFFSETTO:+0100
TZNAME:CET
DTSTART:20251026T010000
END:STANDARD
END:VTIMEZONE
BEGIN:VEVENT
DTSTART;TZID=Europe/Berlin:20250115T190000
DTEND;TZID=Europe/Berlin:20250115T203000
DTSTAMP:20260421T225228
CREATED:20230112T124433Z
LAST-MODIFIED:20240906T104711Z
UID:1772-1736967600-1736973000@kinderzentrum-herrsching.de
SUMMARY:2. öffentliche Elternbeiratssitzung im Andechser Hof - alle Bereiche
DESCRIPTION:Als interessierte Eltern unseres Kinderzentrums sind Sie herzlich eingeladen ab 19:00 Uhr dazu zu kommen. Sie können Ihre Themen mit einbringen und sich an Aktivitäten des Elternbeirates mit Ihren Ideen und Impulsen beteiligen. Wir freuen uns auf Sie. Beachten Sie bitte den Veranstaltungsort! \nhttp://kinderzentrum-herrsching.de/wp-content/uploads/2023/10/Elternbeirat-1023-002.pdf \nAs interested parents in our children's center\, you are cordially invited to come along from 7:00 p.m. You can contribute your topics and take part in the activities of the parents' council with your ideas and impulses. We look forward to seeing you....\nPlease note the venue!
URL:http://kinderzentrum-herrsching.de/termine/2-oeffentliche-elternbeiratssitzung/
LOCATION:Andechser Hof\, Zum Landungssteg 1\, Herrsching\, 82211\, Deutschland
CATEGORIES:Hort,Kindergarten,Kinderzentrum,Krippe,Vorschulgruppe
END:VEVENT
END:VCALENDAR