BEGIN:VCALENDAR
VERSION:2.0
PRODID:-//Kinderzentrum St. Nikolaus Herrsching - ECPv6.5.1.6//NONSGML v1.0//EN
CALSCALE:GREGORIAN
METHOD:PUBLISH
X-WR-CALNAME:Kinderzentrum St. Nikolaus Herrsching
X-ORIGINAL-URL:http://kinderzentrum-herrsching.de
X-WR-CALDESC:Veranstaltungen für Kinderzentrum St. Nikolaus Herrsching
REFRESH-INTERVAL;VALUE=DURATION:PT1H
X-Robots-Tag:noindex
X-PUBLISHED-TTL:PT1H
BEGIN:VTIMEZONE
TZID:Europe/Berlin
BEGIN:DAYLIGHT
TZOFFSETFROM:+0100
TZOFFSETTO:+0200
TZNAME:CEST
DTSTART:20240331T010000
END:DAYLIGHT
BEGIN:STANDARD
TZOFFSETFROM:+0200
TZOFFSETTO:+0100
TZNAME:CET
DTSTART:20241027T010000
END:STANDARD
END:VTIMEZONE
BEGIN:VEVENT
DTSTART;VALUE=DATE:20241202
DTEND;VALUE=DATE:20241222
DTSTAMP:20260422T002713
CREATED:20240906T103341Z
LAST-MODIFIED:20240906T103341Z
UID:2188-1733122800-1734764399@kinderzentrum-herrsching.de
SUMMARY:Weihnachtsgeschichten aus aller Welt werden gelesen und erarbeitet
DESCRIPTION:
URL:http://kinderzentrum-herrsching.de/termine/weihnachtsgeschichten-aus-aller-welt-werden-gelesen-und-erarbeitet/
LOCATION:Kath. Kinderzentrum\, Mitterweg 20\, Herrsching\, 82211\, Deutschland
CATEGORIES:Hort,Kindergarten,Kinderzentrum,Krippe,Vorschulgruppe
END:VEVENT
BEGIN:VEVENT
DTSTART;TZID=Europe/Berlin:20241218T150000
DTEND;TZID=Europe/Berlin:20241218T160000
DTSTAMP:20260422T002713
CREATED:20240906T102805Z
LAST-MODIFIED:20240906T102805Z
UID:2179-1734534000-1734537600@kinderzentrum-herrsching.de
SUMMARY:Präventionskurs - Gewalt 2 Hortgruppen
DESCRIPTION:Infos hierzu bekommen Sie im Hortbereich \n(You can find information about this in the after-school care area)
URL:http://kinderzentrum-herrsching.de/termine/praeventionskurs-gewalt-2-hortgruppen-10/
LOCATION:Hort St. Nikolaus\, 08152 3355\, Deutschland
CATEGORIES:Hort
END:VEVENT
END:VCALENDAR