BEGIN:VCALENDAR
VERSION:2.0
PRODID:-//Kinderzentrum St. Nikolaus Herrsching - ECPv6.5.1.6//NONSGML v1.0//EN
CALSCALE:GREGORIAN
METHOD:PUBLISH
X-ORIGINAL-URL:http://kinderzentrum-herrsching.de
X-WR-CALDESC:Veranstaltungen fÃ¼r Kinderzentrum St. Nikolaus Herrsching
REFRESH-INTERVAL;VALUE=DURATION:PT1H
X-Robots-Tag:noindex
X-PUBLISHED-TTL:PT1H
BEGIN:VTIMEZONE
TZID:Europe/Berlin
BEGIN:DAYLIGHT
TZOFFSETFROM:+0100
TZOFFSETTO:+0200
TZNAME:CEST
DTSTART:20240331T010000
END:DAYLIGHT
BEGIN:STANDARD
TZOFFSETFROM:+0200
TZOFFSETTO:+0100
TZNAME:CET
DTSTART:20241027T010000
END:STANDARD
END:VTIMEZONE
BEGIN:VEVENT
DTSTART;VALUE=DATE:20241115
DTEND;VALUE=DATE:20241117
DTSTAMP:20260422T022335
CREATED:20190908T145626Z
LAST-MODIFIED:20240906T101742Z
UID:652-1731654000-1731740399@kinderzentrum-herrsching.de
SUMMARY:Bundesweiter Vorlesetag 2024 - Aktionen in allen 3 Bereichen
DESCRIPTION:Wir werden den ganzen Tag unseren Schwerpunkt auf das &#8222;VORLESEN&#8220; setzen&#8230;.\nSollten Sie sich als Eltern angesprochen fÃ¼hlen und gerne vorlesen\, setzen Sie sich doch einfach mit der jeweiligen Gruppenleitung in Verbindung. Freuen wÃ¼rden wir uns auch Ã¼ber Eltern die fÃ¼r anderssprachige Kinder vorlesen. Wir begrÃ¼ÃŸen auch GroÃŸeltern oder Autoren sehr gerne bei uns. \n  \nWe will focus on "READING ALOUD" throughout the day...\nIf you feel addressed as a parent and would like to read aloud\, please contact the respective group leader. We would also be happy if parents read to children who speak different languages. We are also happy to welcome grandparents or authors.
URL:http://kinderzentrum-herrsching.de/termine/bundesweiter-vorlesetag/
LOCATION:Kath. Kinderzentrum\, Mitterweg 20\, Herrsching\, 82211\, Deutschland
CATEGORIES:Hort,Kindergarten,Kinderzentrum,Krippe,Vorschulgruppe
END:VEVENT
END:VCALENDAR