BEGIN:VCALENDAR
VERSION:2.0
PRODID:-//Kinderzentrum St. Nikolaus Herrsching - ECPv6.5.1.6//NONSGML v1.0//EN
CALSCALE:GREGORIAN
METHOD:PUBLISH
X-ORIGINAL-URL:http://kinderzentrum-herrsching.de
X-WR-CALDESC:Veranstaltungen fÃ¼r Kinderzentrum St. Nikolaus Herrsching
REFRESH-INTERVAL;VALUE=DURATION:PT1H
X-Robots-Tag:noindex
X-PUBLISHED-TTL:PT1H
BEGIN:VTIMEZONE
TZID:Europe/Berlin
BEGIN:DAYLIGHT
TZOFFSETFROM:+0100
TZOFFSETTO:+0200
TZNAME:CEST
DTSTART:20240331T010000
END:DAYLIGHT
BEGIN:STANDARD
TZOFFSETFROM:+0200
TZOFFSETTO:+0100
TZNAME:CET
DTSTART:20241027T010000
END:STANDARD
END:VTIMEZONE
BEGIN:VEVENT
DTSTART;TZID=Europe/Berlin:20241107T090000
DTEND;TZID=Europe/Berlin:20241107T100000
DTSTAMP:20260422T021219
CREATED:20240906T100425Z
LAST-MODIFIED:20240906T100425Z
UID:2153-1730970000-1730973600@kinderzentrum-herrsching.de
SUMMARY:PrÃ¤ventionskurs Gewalt - 2 Gruppen Vorschulkinder
DESCRIPTION:Infos hierzu bekommen Sie bei den FachkrÃ¤ften der Vorschulgruppe \n  \n(You can obtain information about this from the preschool group specialists)
URL:http://kinderzentrum-herrsching.de/termine/praeventionskurs-gewalt-2-gruppen-vorschulkinder-3/
LOCATION:Kindergarten St. Nikolaus\, Deutschland
CATEGORIES:Vorschulgruppe
END:VEVENT
END:VCALENDAR