BEGIN:VCALENDAR
VERSION:2.0
PRODID:-//Kinderzentrum St. Nikolaus Herrsching - ECPv6.5.1.6//NONSGML v1.0//EN
CALSCALE:GREGORIAN
METHOD:PUBLISH
X-ORIGINAL-URL:http://kinderzentrum-herrsching.de
X-WR-CALDESC:Veranstaltungen für Kinderzentrum St. Nikolaus Herrsching
REFRESH-INTERVAL;VALUE=DURATION:PT1H
X-Robots-Tag:noindex
X-PUBLISHED-TTL:PT1H
BEGIN:VTIMEZONE
TZID:Europe/Berlin
BEGIN:DAYLIGHT
TZOFFSETFROM:+0100
TZOFFSETTO:+0200
TZNAME:CEST
DTSTART:20240331T010000
END:DAYLIGHT
BEGIN:STANDARD
TZOFFSETFROM:+0200
TZOFFSETTO:+0100
TZNAME:CET
DTSTART:20241027T010000
END:STANDARD
END:VTIMEZONE
BEGIN:VEVENT
DTSTART;VALUE=DATE:20241021
DTEND;VALUE=DATE:20241106
DTSTAMP:20260422T021045
CREATED:20240906T094819Z
LAST-MODIFIED:20240906T094819Z
UID:2139-1729494000-1730789999@kinderzentrum-herrsching.de
SUMMARY:Ausstellung "Alles Zucker oder was?" -
DESCRIPTION:Eingangsbereich Kinderzentrum: \nZiele der Ausstellung \n\nSichtbarmachen unerwartet hoher Zuckergehalte in Lebensmitteln\nEinordnen von Zuckeralternativen und Süßmachern gegenüber Zucker\nKennenlernen von rechtlich geregelten und ungeregelten Werbeaussagen\nReflektieren\, wann die tolerierte tägliche Zuckermenge erreicht ist\nErfahren\, wie Zucker und Süßungsmittel in der eigenen Ernährung reduziert werden können
URL:http://kinderzentrum-herrsching.de/termine/ausstellung-alles-zucker-oder-was/
LOCATION:Kath. Kinderzentrum\, Mitterweg 20\, Herrsching\, 82211\, Deutschland
CATEGORIES:Hort,Kindergarten,Kinderzentrum,Krippe,Vorschulgruppe
END:VEVENT
END:VCALENDAR