BEGIN:VCALENDAR
VERSION:2.0
PRODID:-//Kinderzentrum St. Nikolaus Herrsching - ECPv6.5.1.6//NONSGML v1.0//EN
CALSCALE:GREGORIAN
METHOD:PUBLISH
X-WR-CALNAME:Kinderzentrum St. Nikolaus Herrsching
X-ORIGINAL-URL:http://kinderzentrum-herrsching.de
X-WR-CALDESC:Veranstaltungen fÃ¼r Kinderzentrum St. Nikolaus Herrsching
REFRESH-INTERVAL;VALUE=DURATION:PT1H
X-Robots-Tag:noindex
X-PUBLISHED-TTL:PT1H
BEGIN:VTIMEZONE
TZID:Europe/Berlin
BEGIN:DAYLIGHT
TZOFFSETFROM:+0100
TZOFFSETTO:+0200
TZNAME:CEST
DTSTART:20240331T010000
END:DAYLIGHT
BEGIN:STANDARD
TZOFFSETFROM:+0200
TZOFFSETTO:+0100
TZNAME:CET
DTSTART:20241027T010000
END:STANDARD
END:VTIMEZONE
BEGIN:VEVENT
DTSTART;TZID=Europe/Berlin:20241016T150000
DTEND;TZID=Europe/Berlin:20241016T160000
DTSTAMP:20260422T035410
CREATED:20240906T091506Z
LAST-MODIFIED:20240906T091506Z
UID:2119-1729090800-1729094400@kinderzentrum-herrsching.de
SUMMARY:PrÃ¤ventionskurs â€“ Gewalt 2 Hortgruppen
DESCRIPTION:Infos hierzu bekommen Sie im Hortbereich \n(You can find information about this in the after-school care area)
URL:http://kinderzentrum-herrsching.de/termine/praeventionskurs-gewalt-2-hortgruppen-3/
LOCATION:Hort St. Nikolaus\, 08152 3355\, Deutschland
CATEGORIES:Hort
END:VEVENT
BEGIN:VEVENT
DTSTART;TZID=Europe/Berlin:20241016T150000
DTEND;TZID=Europe/Berlin:20241016T170000
DTSTAMP:20260422T035410
CREATED:20190908T122327Z
LAST-MODIFIED:20240906T091920Z
UID:590-1729090800-1729098000@kinderzentrum-herrsching.de
SUMMARY:Familienfest in der Raupengruppe- zum Kennenlernen der Eltern untereinander
DESCRIPTION:Infos hierzu kommen von den jeweiligen Gruppenâ€¦ \n(Information about this comes from the respective groupsâ€¦)
URL:http://kinderzentrum-herrsching.de/termine/familienfest-in-der-raupengruppe/
LOCATION:Krippe St. Nikolaus\, Deutschland
CATEGORIES:Krippe
END:VEVENT
BEGIN:VEVENT
DTSTART;TZID=Europe/Berlin:20241016T190000
DTEND;TZID=Europe/Berlin:20241016T203000
DTSTAMP:20260422T035410
CREATED:20190908T115745Z
LAST-MODIFIED:20240906T092404Z
UID:572-1729105200-1729110600@kinderzentrum-herrsching.de
SUMMARY:1. Elternabend Hortbereich
DESCRIPTION:Das Team des Hortbereiches erlÃ¤utert die Schwerpunkte der pÃ¤d. Arbeit im Kinderzentrum\, und steht Ihnen fÃ¼r Fragen zur VerfÃ¼gung. \n(The after-school care team explains the focus of the pedagogical program. Work in the children&#8217;s center and is available to answer any questions you may have.) \n 
URL:http://kinderzentrum-herrsching.de/termine/elternbeiratswahl-1-elternabend-in-den-gruppen/
LOCATION:Hort St. Nikolaus\, 08152 3355\, Deutschland
CATEGORIES:Hort
END:VEVENT
END:VCALENDAR