BEGIN:VCALENDAR
VERSION:2.0
PRODID:-//Kinderzentrum St. Nikolaus Herrsching - ECPv6.5.1.6//NONSGML v1.0//EN
CALSCALE:GREGORIAN
METHOD:PUBLISH
X-WR-CALNAME:Kinderzentrum St. Nikolaus Herrsching
X-ORIGINAL-URL:http://kinderzentrum-herrsching.de
X-WR-CALDESC:Veranstaltungen für Kinderzentrum St. Nikolaus Herrsching
REFRESH-INTERVAL;VALUE=DURATION:PT1H
X-Robots-Tag:noindex
X-PUBLISHED-TTL:PT1H
BEGIN:VTIMEZONE
TZID:Europe/Berlin
BEGIN:DAYLIGHT
TZOFFSETFROM:+0100
TZOFFSETTO:+0200
TZNAME:CEST
DTSTART:20240331T010000
END:DAYLIGHT
BEGIN:STANDARD
TZOFFSETFROM:+0200
TZOFFSETTO:+0100
TZNAME:CET
DTSTART:20241027T010000
END:STANDARD
END:VTIMEZONE
BEGIN:VEVENT
DTSTART;TZID=Europe/Berlin:20241009T120000
DTEND;TZID=Europe/Berlin:20241009T170000
DTSTAMP:20260422T035538
CREATED:20230323T093839Z
LAST-MODIFIED:20240906T084421Z
UID:1795-1728475200-1728493200@kinderzentrum-herrsching.de
SUMMARY:Teamfortbildung Nachmittags - "Kinder wertvoll begleiten"
DESCRIPTION:Die Einrichtung ist ab 14 Uhr geschlossen\, Betreuung der Kinder endet um 14 Uhr \n(The facility is closed from 2 p.m.\, care for children ends at 2 p.m)
URL:http://kinderzentrum-herrsching.de/termine/teamfortbildung-nachmittags/
LOCATION:Kath. Kinderzentrum\, Mitterweg 20\, Herrsching\, 82211\, Deutschland
CATEGORIES:Hort,Kindergarten,Kinderzentrum,Krippe,Vorschulgruppe
END:VEVENT
END:VCALENDAR