BEGIN:VCALENDAR
VERSION:2.0
PRODID:-//Kinderzentrum St. Nikolaus Herrsching - ECPv6.5.1.6//NONSGML v1.0//EN
CALSCALE:GREGORIAN
METHOD:PUBLISH
X-ORIGINAL-URL:http://kinderzentrum-herrsching.de
X-WR-CALDESC:Veranstaltungen für Kinderzentrum St. Nikolaus Herrsching
REFRESH-INTERVAL;VALUE=DURATION:PT1H
X-Robots-Tag:noindex
X-PUBLISHED-TTL:PT1H
BEGIN:VTIMEZONE
TZID:Europe/Berlin
BEGIN:DAYLIGHT
TZOFFSETFROM:+0100
TZOFFSETTO:+0200
TZNAME:CEST
DTSTART:20240331T010000
END:DAYLIGHT
BEGIN:STANDARD
TZOFFSETFROM:+0200
TZOFFSETTO:+0100
TZNAME:CET
DTSTART:20241027T010000
END:STANDARD
END:VTIMEZONE
BEGIN:VEVENT
DTSTART;TZID=Europe/Berlin:20240209T140000
DTEND;TZID=Europe/Berlin:20240209T160000
DTSTAMP:20260424T164218
CREATED:20240119T133833Z
LAST-MODIFIED:20240119T133833Z
UID:2009-1707487200-1707494400@kinderzentrum-herrsching.de
SUMMARY:Faschingsfeier - Elternbeirat
DESCRIPTION:Klicken Sie auf folgenden Link um mehr zu erfahren&#8230;.. 🙂 \nhttp://kinderzentrum-herrsching.de/wp-content/uploads/2024/01/image003.png
URL:http://kinderzentrum-herrsching.de/termine/faschingsfeier-elternbeirat/
LOCATION:online\, Deutschland
CATEGORIES:Hort,Kindergarten,Kinderzentrum,Krippe,Vorschulgruppe
END:VEVENT
END:VCALENDAR