BEGIN:VCALENDAR
VERSION:2.0
PRODID:-//Kinderzentrum St. Nikolaus Herrsching - ECPv6.5.1.6//NONSGML v1.0//EN
CALSCALE:GREGORIAN
METHOD:PUBLISH
X-ORIGINAL-URL:http://kinderzentrum-herrsching.de
X-WR-CALDESC:Veranstaltungen für Kinderzentrum St. Nikolaus Herrsching
REFRESH-INTERVAL;VALUE=DURATION:PT1H
X-Robots-Tag:noindex
X-PUBLISHED-TTL:PT1H
BEGIN:VTIMEZONE
TZID:Europe/Berlin
BEGIN:DAYLIGHT
TZOFFSETFROM:+0100
TZOFFSETTO:+0200
TZNAME:CEST
DTSTART:20240331T010000
END:DAYLIGHT
BEGIN:STANDARD
TZOFFSETFROM:+0200
TZOFFSETTO:+0100
TZNAME:CET
DTSTART:20241027T010000
END:STANDARD
END:VTIMEZONE
BEGIN:VEVENT
DTSTART;TZID=Europe/Berlin:20240201T090000
DTEND;TZID=Europe/Berlin:20240201T110000
DTSTAMP:20260424T164057
CREATED:20220914T050534Z
LAST-MODIFIED:20230917T114649Z
UID:1732-1706778000-1706785200@kinderzentrum-herrsching.de
SUMMARY:Verkehrserziehung für die Vorschulkinder mit der Polizei
DESCRIPTION:
URL:http://kinderzentrum-herrsching.de/termine/verkehrserziehung-fuer-die-vorschulkinder-mit-der-polizei/
LOCATION:Kindergarten St. Nikolaus\, Deutschland
CATEGORIES:Kindergarten,Vorschulgruppe
END:VEVENT
END:VCALENDAR