BEGIN:VCALENDAR
VERSION:2.0
PRODID:-//Kinderzentrum St. Nikolaus Herrsching - ECPv6.5.1.6//NONSGML v1.0//EN
CALSCALE:GREGORIAN
METHOD:PUBLISH
X-ORIGINAL-URL:http://kinderzentrum-herrsching.de
X-WR-CALDESC:Veranstaltungen für Kinderzentrum St. Nikolaus Herrsching
REFRESH-INTERVAL;VALUE=DURATION:PT1H
X-Robots-Tag:noindex
X-PUBLISHED-TTL:PT1H
BEGIN:VTIMEZONE
TZID:Europe/Berlin
BEGIN:DAYLIGHT
TZOFFSETFROM:+0100
TZOFFSETTO:+0200
TZNAME:CEST
DTSTART:20230326T010000
END:DAYLIGHT
BEGIN:STANDARD
TZOFFSETFROM:+0200
TZOFFSETTO:+0100
TZNAME:CET
DTSTART:20231029T010000
END:STANDARD
END:VTIMEZONE
BEGIN:VEVENT
DTSTART;TZID=Europe/Berlin:20230727T170000
DTEND;TZID=Europe/Berlin:20230727T200000
DTSTAMP:20260425T035319
CREATED:20190909T045225Z
LAST-MODIFIED:20220907T145018Z
UID:751-1690477200-1690488000@kinderzentrum-herrsching.de
SUMMARY:"Vorschulparty" für die zukünftigen Schulkinder
DESCRIPTION:Detailierte Info kommt durch die Gruppen in Form eines Elternbriefes
URL:http://kinderzentrum-herrsching.de/termine/vorschulparty-fuer-die-neuen-schulkinder/
LOCATION:Kindergarten St. Nikolaus\, Deutschland
CATEGORIES:Kindergarten,Vorschulgruppe
END:VEVENT
BEGIN:VEVENT
DTSTART;TZID=Europe/Berlin:20230727T170000
DTEND;TZID=Europe/Berlin:20230727T200000
DTSTAMP:20260425T035319
CREATED:20230612T133158Z
LAST-MODIFIED:20230612T133158Z
UID:1822-1690477200-1690488000@kinderzentrum-herrsching.de
SUMMARY:Vorschulparty
DESCRIPTION:17 bis 20 Uhr (ohne Eltern)
URL:http://kinderzentrum-herrsching.de/termine/vorschulparty/
LOCATION:Kindergarten St. Nikolaus\, Deutschland
CATEGORIES:Kindergarten
END:VEVENT
END:VCALENDAR