BEGIN:VCALENDAR
VERSION:2.0
PRODID:-//Kinderzentrum St. Nikolaus Herrsching - ECPv6.5.1.6//NONSGML v1.0//EN
CALSCALE:GREGORIAN
METHOD:PUBLISH
X-ORIGINAL-URL:http://kinderzentrum-herrsching.de
X-WR-CALDESC:Veranstaltungen für Kinderzentrum St. Nikolaus Herrsching
REFRESH-INTERVAL;VALUE=DURATION:PT1H
X-Robots-Tag:noindex
X-PUBLISHED-TTL:PT1H
BEGIN:VTIMEZONE
TZID:Europe/Berlin
BEGIN:DAYLIGHT
TZOFFSETFROM:+0100
TZOFFSETTO:+0200
TZNAME:CEST
DTSTART:20230326T010000
END:DAYLIGHT
BEGIN:STANDARD
TZOFFSETFROM:+0200
TZOFFSETTO:+0100
TZNAME:CET
DTSTART:20231029T010000
END:STANDARD
END:VTIMEZONE
BEGIN:VEVENT
DTSTART;VALUE=DATE:20230721
DTEND;VALUE=DATE:20230723
DTSTAMP:20260425T034748
CREATED:20230612T132855Z
LAST-MODIFIED:20230612T132855Z
UID:1818-1689922800-1690009199@kinderzentrum-herrsching.de
SUMMARY:Vorschulausflug
DESCRIPTION:Einladung folgt
URL:http://kinderzentrum-herrsching.de/termine/vorschulausflug/
LOCATION:Kindergarten St. Nikolaus\, Deutschland
CATEGORIES:Kindergarten
END:VEVENT
END:VCALENDAR