BEGIN:VCALENDAR
VERSION:2.0
PRODID:-//Kinderzentrum St. Nikolaus Herrsching - ECPv6.5.1.6//NONSGML v1.0//EN
CALSCALE:GREGORIAN
METHOD:PUBLISH
X-WR-CALNAME:Kinderzentrum St. Nikolaus Herrsching
X-ORIGINAL-URL:http://kinderzentrum-herrsching.de
X-WR-CALDESC:Veranstaltungen für Kinderzentrum St. Nikolaus Herrsching
REFRESH-INTERVAL;VALUE=DURATION:PT1H
X-Robots-Tag:noindex
X-PUBLISHED-TTL:PT1H
BEGIN:VTIMEZONE
TZID:Europe/Berlin
BEGIN:DAYLIGHT
TZOFFSETFROM:+0100
TZOFFSETTO:+0200
TZNAME:CEST
DTSTART:20230326T010000
END:DAYLIGHT
BEGIN:STANDARD
TZOFFSETFROM:+0200
TZOFFSETTO:+0100
TZNAME:CET
DTSTART:20231029T010000
END:STANDARD
END:VTIMEZONE
BEGIN:VEVENT
DTSTART;TZID=Europe/Berlin:20230713T193000
DTEND;TZID=Europe/Berlin:20230713T210000
DTSTAMP:20260425T034553
CREATED:20220701T092233Z
LAST-MODIFIED:20220907T144336Z
UID:1572-1689276600-1689282000@kinderzentrum-herrsching.de
SUMMARY:4. öffentliche Elternbeiratssitzung
DESCRIPTION:interssierte Eltern sind herzlich WILLKOMMEN.
URL:http://kinderzentrum-herrsching.de/termine/4-oeffentliche-elternbeiratssitzung/
LOCATION:Kath. Kinderzentrum\, Mitterweg 20\, Herrsching\, 82211\, Deutschland
CATEGORIES:Hort,Kindergarten,Kinderzentrum,Krippe,Vorschulgruppe
END:VEVENT
BEGIN:VEVENT
DTSTART;TZID=Europe/Berlin:20230713T193000
DTEND;TZID=Europe/Berlin:20230713T210000
DTSTAMP:20260425T034553
CREATED:20230112T124957Z
LAST-MODIFIED:20230112T125526Z
UID:1781-1689276600-1689282000@kinderzentrum-herrsching.de
SUMMARY:4. öffentliche Elternbeiratssitzung
DESCRIPTION:
URL:http://kinderzentrum-herrsching.de/termine/4-oeffentliche-elternbeiratssitzung-2/
LOCATION:Pfarrsaal\, Mitterweg 20\, Herrsching\, Bayern\, 82211\, Deutschland
CATEGORIES:Hort,Kindergarten,Kinderzentrum,Krippe,Vorschulgruppe
END:VEVENT
END:VCALENDAR