BEGIN:VCALENDAR
VERSION:2.0
PRODID:-//Kinderzentrum St. Nikolaus Herrsching - ECPv6.5.1.6//NONSGML v1.0//EN
CALSCALE:GREGORIAN
METHOD:PUBLISH
X-ORIGINAL-URL:http://kinderzentrum-herrsching.de
X-WR-CALDESC:Veranstaltungen für Kinderzentrum St. Nikolaus Herrsching
REFRESH-INTERVAL;VALUE=DURATION:PT1H
X-Robots-Tag:noindex
X-PUBLISHED-TTL:PT1H
BEGIN:VTIMEZONE
TZID:Europe/Berlin
BEGIN:DAYLIGHT
TZOFFSETFROM:+0100
TZOFFSETTO:+0200
TZNAME:CEST
DTSTART:20230326T010000
END:DAYLIGHT
BEGIN:STANDARD
TZOFFSETFROM:+0200
TZOFFSETTO:+0100
TZNAME:CET
DTSTART:20231029T010000
END:STANDARD
END:VTIMEZONE
BEGIN:VEVENT
DTSTART;TZID=Europe/Berlin:20230712T190000
DTEND;TZID=Europe/Berlin:20230712T200000
DTSTAMP:20260425T035321
CREATED:20210914T133059Z
LAST-MODIFIED:20220907T144215Z
UID:1300-1689188400-1689192000@kinderzentrum-herrsching.de
SUMMARY:Vorschulkinder-Elternabend
DESCRIPTION:Liebe Eltern\, auf diesem Elternabend haben Sie die Gelegenheit sich Informationen bzgl. päd. Vorschularbeit einzuholen und Fragen zu stellen&#8230;
URL:http://kinderzentrum-herrsching.de/termine/vorschulkinder-elternabend/
LOCATION:Kindergarten St. Nikolaus\, Deutschland
CATEGORIES:Kindergarten
END:VEVENT
END:VCALENDAR