BEGIN:VCALENDAR
VERSION:2.0
PRODID:-//Kinderzentrum St. Nikolaus Herrsching - ECPv6.5.1.6//NONSGML v1.0//EN
CALSCALE:GREGORIAN
METHOD:PUBLISH
X-ORIGINAL-URL:http://kinderzentrum-herrsching.de
X-WR-CALDESC:Veranstaltungen für Kinderzentrum St. Nikolaus Herrsching
REFRESH-INTERVAL;VALUE=DURATION:PT1H
X-Robots-Tag:noindex
X-PUBLISHED-TTL:PT1H
BEGIN:VTIMEZONE
TZID:Europe/Berlin
BEGIN:DAYLIGHT
TZOFFSETFROM:+0100
TZOFFSETTO:+0200
TZNAME:CEST
DTSTART:20230326T010000
END:DAYLIGHT
BEGIN:STANDARD
TZOFFSETFROM:+0200
TZOFFSETTO:+0100
TZNAME:CET
DTSTART:20231029T010000
END:STANDARD
END:VTIMEZONE
BEGIN:VEVENT
DTSTART;TZID=Europe/Berlin:20230616T080000
DTEND;TZID=Europe/Berlin:20230616T110000
DTSTAMP:20260425T051920
CREATED:20230612T131748Z
LAST-MODIFIED:20230612T131748Z
UID:1806-1686902400-1686913200@kinderzentrum-herrsching.de
SUMMARY:Kooperationsstunde Vorschulkinder mit der Schule
DESCRIPTION:die Kinder müssen bis 08:00 Uhr im Kindergarten sein
URL:http://kinderzentrum-herrsching.de/termine/kooperationsstunde-vorschulkinder-mit-der-schule/
LOCATION:Kindergarten St. Nikolaus\, Deutschland
CATEGORIES:Kindergarten
END:VEVENT
END:VCALENDAR