BEGIN:VCALENDAR
VERSION:2.0
PRODID:-//Kinderzentrum St. Nikolaus Herrsching - ECPv6.5.1.6//NONSGML v1.0//EN
CALSCALE:GREGORIAN
METHOD:PUBLISH
X-WR-CALNAME:Kinderzentrum St. Nikolaus Herrsching
X-ORIGINAL-URL:http://kinderzentrum-herrsching.de
X-WR-CALDESC:Veranstaltungen für Kinderzentrum St. Nikolaus Herrsching
REFRESH-INTERVAL;VALUE=DURATION:PT1H
X-Robots-Tag:noindex
X-PUBLISHED-TTL:PT1H
BEGIN:VTIMEZONE
TZID:Europe/Berlin
BEGIN:DAYLIGHT
TZOFFSETFROM:+0100
TZOFFSETTO:+0200
TZNAME:CEST
DTSTART:20220327T010000
END:DAYLIGHT
BEGIN:STANDARD
TZOFFSETFROM:+0200
TZOFFSETTO:+0100
TZNAME:CET
DTSTART:20221030T010000
END:STANDARD
END:VTIMEZONE
BEGIN:VEVENT
DTSTART;VALUE=DATE:20221015
DTEND;VALUE=DATE:20221111
DTSTAMP:20260425T185737
CREATED:20210914T152348Z
LAST-MODIFIED:20220907T130809Z
UID:1382-1665817200-1668063599@kinderzentrum-herrsching.de
SUMMARY:Laternenbasteln mit den Kindern
DESCRIPTION:Die Kinder dürfen sich\, wenn sie wollen eine St. Martinslaterne basteln. Dies ist ein freiwilliges Angebot für die Kinder\, kein MUSS.
URL:http://kinderzentrum-herrsching.de/termine/laternenbasteln-mit-den-kindern/
LOCATION:Kath. Kinderzentrum\, Mitterweg 20\, Herrsching\, 82211\, Deutschland
CATEGORIES:Kindergarten,Krippe,Vorschulgruppe
END:VEVENT
BEGIN:VEVENT
DTSTART;TZID=Europe/Berlin:20221024T143000
DTEND;TZID=Europe/Berlin:20221028T160000
DTSTAMP:20260425T185737
CREATED:20220907T130403Z
LAST-MODIFIED:20220907T130403Z
UID:1616-1666621800-1666972800@kinderzentrum-herrsching.de
SUMMARY:Familienfeste Kindergartenbereich
DESCRIPTION:Die Gruppen feiern jeweils nachmittags in den Gruppen ein Familienfest &#8211; Infos kommen noch von den jeweiligen Gruppen separat
URL:http://kinderzentrum-herrsching.de/termine/familienfeste-kindergartenbereich/
LOCATION:Kindergarten St. Nikolaus\, Deutschland
CATEGORIES:Kindergarten
END:VEVENT
END:VCALENDAR