BEGIN:VCALENDAR
VERSION:2.0
PRODID:-//Kinderzentrum St. Nikolaus Herrsching - ECPv6.5.1.6//NONSGML v1.0//EN
CALSCALE:GREGORIAN
METHOD:PUBLISH
X-WR-CALNAME:Kinderzentrum St. Nikolaus Herrsching
X-ORIGINAL-URL:http://kinderzentrum-herrsching.de
X-WR-CALDESC:Veranstaltungen für Kinderzentrum St. Nikolaus Herrsching
REFRESH-INTERVAL;VALUE=DURATION:PT1H
X-Robots-Tag:noindex
X-PUBLISHED-TTL:PT1H
BEGIN:VTIMEZONE
TZID:Europe/Berlin
BEGIN:DAYLIGHT
TZOFFSETFROM:+0100
TZOFFSETTO:+0200
TZNAME:CEST
DTSTART:20220327T010000
END:DAYLIGHT
BEGIN:STANDARD
TZOFFSETFROM:+0200
TZOFFSETTO:+0100
TZNAME:CET
DTSTART:20221030T010000
END:STANDARD
END:VTIMEZONE
BEGIN:VEVENT
DTSTART;VALUE=DATE:20221014
DTEND;VALUE=DATE:20221016
DTSTAMP:20260425T185738
CREATED:20220429T054253Z
LAST-MODIFIED:20220907T125849Z
UID:1557-1665730800-1665817199@kinderzentrum-herrsching.de
SUMMARY:Teamfortbildung Kindergarten
DESCRIPTION:Einrichtung / Bereich Kindergarten ganztägig geschlossen
URL:http://kinderzentrum-herrsching.de/termine/teamfortbildung-kindergarten/
LOCATION:Kindergarten St. Nikolaus\, Deutschland
CATEGORIES:Kindergarten
END:VEVENT
BEGIN:VEVENT
DTSTART;TZID=Europe/Berlin:20221014T130000
DTEND;TZID=Europe/Berlin:20221014T170000
DTSTAMP:20260425T185738
CREATED:20220907T122010Z
LAST-MODIFIED:20220922T164816Z
UID:1584-1665752400-1665766800@kinderzentrum-herrsching.de
SUMMARY:Workshop "Kinderarbeit mit allen Sinnen"
DESCRIPTION:Parcours Stationenweg Kinderarbeit \nmit unserer Gemeindereferentin Fr. Cornelia Kraus im Hortbereich des Kinderzentrums &#8211; weitere Infos folgen von Fr. Müller und Fr. Kraus
URL:http://kinderzentrum-herrsching.de/termine/workshop-kinderarbeit-mit-allen-sinnen/
LOCATION:online\, Deutschland
CATEGORIES:Hort,Kinderzentrum
END:VEVENT
END:VCALENDAR