BEGIN:VCALENDAR
VERSION:2.0
PRODID:-//Kinderzentrum St. Nikolaus Herrsching - ECPv6.5.1.6//NONSGML v1.0//EN
CALSCALE:GREGORIAN
METHOD:PUBLISH
X-ORIGINAL-URL:http://kinderzentrum-herrsching.de
X-WR-CALDESC:Veranstaltungen für Kinderzentrum St. Nikolaus Herrsching
REFRESH-INTERVAL;VALUE=DURATION:PT1H
X-Robots-Tag:noindex
X-PUBLISHED-TTL:PT1H
BEGIN:VTIMEZONE
TZID:Europe/Berlin
BEGIN:DAYLIGHT
TZOFFSETFROM:+0100
TZOFFSETTO:+0200
TZNAME:CEST
DTSTART:20220327T010000
END:DAYLIGHT
BEGIN:STANDARD
TZOFFSETFROM:+0200
TZOFFSETTO:+0100
TZNAME:CET
DTSTART:20221030T010000
END:STANDARD
END:VTIMEZONE
BEGIN:VEVENT
DTSTART;TZID=Europe/Berlin:20220715T000000
DTEND;TZID=Europe/Berlin:20220715T000000
DTSTAMP:20260425T235828
CREATED:20190909T045737Z
LAST-MODIFIED:20210915T140904Z
UID:758-1657843200-1657843200@kinderzentrum-herrsching.de
SUMMARY:Abschiedsfest Hort für die Kinder der 4. Klassen
DESCRIPTION:Detailierte Infos folgen von den Mitarbeitern des Hortes &#8211; Uhrzeit wird noch bekannt gegeben
URL:http://kinderzentrum-herrsching.de/termine/abschiedsfest-hort/
LOCATION:Hort St. Nikolaus\, 08152 3355\, Deutschland
CATEGORIES:Hort
END:VEVENT
END:VCALENDAR